BEGIN:VCALENDAR
VERSION:2.0
PRODID:-//ChamberMaster//Event Calendar 2.0//EN
METHOD:PUBLISH
X-PUBLISHED-TTL:P3D
REFRESH-INTERVAL:P3D
CALSCALE:GREGORIAN
BEGIN:VEVENT
DTSTART:20151205T203000Z
DTEND:20151205T233000Z
X-MICROSOFT-CDO-ALLDAYEVENT:FALSE
SUMMARY:Yes You Canvas with Angela Paint Class Family Ornaments
DESCRIPTION:Create your own family Christmas painting of hanging ornaments with your families names included. This makes a special gift for someone special in your life\, or hang it up every Christmas. Alternative date/location available: Dec. 6th\, 2015 5-8pm @ Family Life Church of God 233 Carlisle St. New Oxford\, PA.
X-ALT-DESC;FMTTYPE=text/html:Create your own family Christmas painting of hanging ornaments with your families names included. This makes a special gift for someone special in your life\, or hang it up every Christmas. Alternative date/location available: Dec. 6th\, 2015 5-8pm @ Family Life Church of God 233 Carlisle St. New Oxford\, PA.
LOCATION:Hanover Hobby Lobby Classroom
UID:e.1500.1025
SEQUENCE:3
DTSTAMP:20260422T223117Z
URL:https://business.hanoverchamber.com/events/details/yes-you-canvas-with-angela-paint-class-family-ornaments-12-05-2015-1025
END:VEVENT

END:VCALENDAR
