BEGIN:VCALENDAR
VERSION:2.0
PRODID:-//ChamberMaster//Event Calendar 2.0//EN
METHOD:PUBLISH
X-PUBLISHED-TTL:P3D
REFRESH-INTERVAL:P3D
CALSCALE:GREGORIAN
BEGIN:VEVENT
DTSTART:20171116T130000Z
DTEND:20171116T160000Z
X-MICROSOFT-CDO-ALLDAYEVENT:FALSE
SUMMARY:SEK&Co's Year-End Insight Seminar
DESCRIPTION:Smith Elliott Kearns & Company's FREE annual seminar that focuses on updates and issues affecting payroll and other compliance matters for Pennsylvania and Maryland businesses.\n\n\n\nTopics:\n\n\n	Update on general sales and use tax topics\n	Review of record keeping requirements\n	Payroll updates including changes to I-9's and W-2's\n	Review of unique payroll issues\n	HR highlights\n	Other important information\n\n\nContinental breakfast begins at 8:00 a.m. Sessions run 8:30 a.m. - 11:00 a.m.\n\nAlthough the seminars are free\, seating is limited.\n\nPlease RSVP by October 31st by registering at http://sek.eventbrite.com
X-ALT-DESC;FMTTYPE=text/html:<p>Smith Elliott Kearns &amp\; Company&rsquo\;s FREE annual seminar that focuses on updates and issues affecting payroll and other compliance matters for Pennsylvania and Maryland businesses.<br />\n<br />\nTopics:</p>\n\n<ul>\n	<li>Update on general sales and use tax topics</li>\n	<li>Review of record keeping requirements</li>\n	<li>Payroll updates including changes to I-9&rsquo\;s and W-2&rsquo\;s</li>\n	<li>Review of unique payroll issues</li>\n	<li>HR highlights</li>\n	<li>Other important information</li>\n</ul>\n\n<p>Continental breakfast begins at 8:00 a.m. Sessions run 8:30 a.m. - 11:00 a.m.</p>\n\n<p>Although the seminars are free\, seating is limited.</p>\n\n<p>Please RSVP by October 31st by registering at <a href="http://www.sek.eventbrite.com">http://sek.eventbrite.com</a></p>\n
LOCATION:Hanover Country Club 200 Water Street Abbottstown\, PA
UID:e.1500.3092
SEQUENCE:3
DTSTAMP:20260421T104608Z
URL:https://business.hanoverchamber.com/events/details/year-end-insight-seminar-3092
END:VEVENT

END:VCALENDAR
