BEGIN:VCALENDAR
VERSION:2.0
PRODID:-//ChamberMaster//Event Calendar 2.0//EN
METHOD:PUBLISH
X-PUBLISHED-TTL:P3D
REFRESH-INTERVAL:P3D
CALSCALE:GREGORIAN
BEGIN:VEVENT
DTSTART:20151212T170000Z
DTEND:20151212T180000Z
X-MICROSOFT-CDO-ALLDAYEVENT:FALSE
SUMMARY:Wreaths Across America
DESCRIPTION:Each year\, Wreaths Across America lays wreaths on veteran graves at Mt. Olivet Cemetery. Join them this year on December 12 for a moment of silence at noon (EST)\, followed by the laying of wreaths.\n\nIf you would like to donate to help fund the wreaths\, or would like to volunteer\, please call Laurie at 717-451-3943 or email hanoverpawaa@comcast.net.
X-ALT-DESC;FMTTYPE=text/html:<p style="margin: 0px 0px 6px\; color: rgb(20\, 24\, 35)\; font-family: helvetica\, arial\, sans-serif\; font-size: 14px\; line-height: 19.32px\;">Each year\, Wreaths Across America lays wreaths on veteran graves at Mt. Olivet Cemetery. Join them this year on December 12 for a moment of silence at noon (EST)\, followed by the laying of wreaths.</p>\n\n<p style="margin: 6px 0px 0px\; display: inline\; color: rgb(20\, 24\, 35)\; font-family: helvetica\, arial\, sans-serif\; font-size: 14px\; line-height: 19.32px\;">If you would like to donate to help fund the wreaths\, or would like to volunteer\, please call Laurie at 717-451-3943 or email hanoverpawaa@comcast.net.</p>\n
LOCATION:Mt. Olivet Cemetery
UID:e.1500.991
SEQUENCE:3
DTSTAMP:20260422T203803Z
URL:https://business.hanoverchamber.com/events/details/wreaths-across-america-12-12-2015-991
END:VEVENT

END:VCALENDAR
