BEGIN:VCALENDAR
VERSION:2.0
PRODID:-//ChamberMaster//Event Calendar 2.0//EN
METHOD:PUBLISH
X-PUBLISHED-TTL:P3D
REFRESH-INTERVAL:P3D
CALSCALE:GREGORIAN
BEGIN:VEVENT
DTSTART:20160122T140000Z
DTEND:20160122T150000Z
X-MICROSOFT-CDO-ALLDAYEVENT:FALSE
SUMMARY:Workshop: Social Media for Small Business
DESCRIPTION:Do you struggle with spreading your message via social media?  During this workshop\, we will cover the basics of using Facebook for your business\, including how\, when and why to post\, how to connect to potential clients or customers\, how to increase page 'likes'\, and the importance of being social!\n\n\n\nParticipants should have some background knowledge of Facebook\; creating a business page ahead of time is suggested.
X-ALT-DESC;FMTTYPE=text/html:Do you struggle with spreading your message via social media? &nbsp\;During this workshop\, we will cover the basics of using Facebook for your business\, including how\, when and why to post\, how to connect to potential clients or customers\, how to increase page &#39\;likes&#39\;\, and the importance of being social!<br />\n<br />\nParticipants should have some background knowledge of Facebook\; creating a business page ahead of time is suggested.
LOCATION:Hanover Chamber Office 146 Carlisle St.\, Hanover
UID:e.1500.1044
SEQUENCE:3
DTSTAMP:20260422T191908Z
URL:https://business.hanoverchamber.com/events/details/workshop-social-media-for-small-business-01-22-2016-1044
END:VEVENT

END:VCALENDAR
