BEGIN:VCALENDAR
VERSION:2.0
PRODID:-//ChamberMaster//Event Calendar 2.0//EN
METHOD:PUBLISH
X-PUBLISHED-TTL:P3D
REFRESH-INTERVAL:P3D
CALSCALE:GREGORIAN
BEGIN:VEVENT
DTSTART:20160917T150000Z
DTEND:20160917T220000Z
X-MICROSOFT-CDO-ALLDAYEVENT:FALSE
SUMMARY:Wine in the Woods
DESCRIPTION:Tickets are $13.00 in advance and $15.00 at the gate the day of.\n\nThey are a few available at JSV's stand at the Markets of Hanover. NO pets\, coolers or outside food or drink is permitted on the event grounds.
X-ALT-DESC;FMTTYPE=text/html:<span style="color: rgb(75\, 79\, 86)\; font-family: helvetica\, arial\, sans-serif\; font-size: 14px\; background-color: rgb(255\, 255\, 255)\;">Tickets are $13.00 in advance and $15.00 at the gate the day of.</span><br style="color: rgb(75\, 79\, 86)\; font-family: helvetica\, arial\, sans-serif\; font-size: 14px\; background-color: rgb(255\, 255\, 255)\;" />\n<span style="color: rgb(75\, 79\, 86)\; font-family: helvetica\, arial\, sans-serif\; font-size: 14px\; background-color: rgb(255\, 255\, 255)\;">They are a few available at JSV&#39\;s stand at the Markets of Hanover. NO pets\, coolers or outside food or drink is permitted on the event grounds.</span>
LOCATION:3113 Centennial Rd. Hanover\, PA 17331
UID:e.1500.1248
SEQUENCE:3
DTSTAMP:20260422T073247Z
URL:https://business.hanoverchamber.com/events/details/wine-in-the-woods-1248
END:VEVENT

END:VCALENDAR
