BEGIN:VCALENDAR
VERSION:2.0
PRODID:-//ChamberMaster//Event Calendar 2.0//EN
METHOD:PUBLISH
X-PUBLISHED-TTL:P3D
REFRESH-INTERVAL:P3D
CALSCALE:GREGORIAN
BEGIN:VEVENT
DTSTART:20150301T180000Z
DTEND:20150329T200000Z
X-MICROSOFT-CDO-ALLDAYEVENT:FALSE
SUMMARY:Wine and Cheese Sundays at Adams County Winery
DESCRIPTION:Come enjoy a flight of 3 wines paired with 5 of our Amish made cheeses and artisan crackers. Guests will select one flight from the 4 offered.
X-ALT-DESC;FMTTYPE=text/html:Come enjoy a flight of 3 wines paired with 5 of our Amish made cheeses and artisan crackers. Guests will select one flight from the 4 offered.
LOCATION:Adams County Winery\, 251 Peach Tree Rd\, Orrtanna PA 17353
UID:e.1500.785
SEQUENCE:3
DTSTAMP:20260423T105904Z
URL:https://business.hanoverchamber.com/events/details/wine-and-cheese-sundays-at-adams-county-winery-03-01-2015-785
END:VEVENT

END:VCALENDAR
