BEGIN:VCALENDAR
VERSION:2.0
PRODID:-//ChamberMaster//Event Calendar 2.0//EN
METHOD:PUBLISH
X-PUBLISHED-TTL:P3D
REFRESH-INTERVAL:P3D
CALSCALE:GREGORIAN
BEGIN:VEVENT
DTSTART:20160913T153000Z
DTEND:20160913T180000Z
X-MICROSOFT-CDO-ALLDAYEVENT:FALSE
SUMMARY:When Business and Culture Collide: The New Era of Employment
DESCRIPTION:Join Stock and Leader's Employment Law Group for a lunch program covering the latest topics in business and culture.\n\n11:30 a.m. - 12:00 p.m.  Lunch\n\n12:00 p.m. - 2:00 p.m.  Program\n\nMedical Marijuana: Workplace Impacts\n\nA review of Pennsylvania's newly enacted medical marijuana laws and what it means for employers.\n\nTransgender Issues and Developments\n\nA practical look at gender identity and accommodations.\n\nHealthcare: A Five Year Forecast\n\nThe current state of healthcare and an in-depth look at what's to come.\n\n$50 registration fee and reservations required by September 6\, 2016.\n\nThis program may be submitted for SHRM credits.\n\nThis program has been submitted to the HR Certification Institute for Review.\n\nNo-shows will not be refunded but will receive program materials.
X-ALT-DESC;FMTTYPE=text/html:<p>Join&nbsp\;<a href="http://www.stockandleader.com/" rel="nofollow" style="color: rgb(0\, 161\, 238)\; text-decoration: none\; padding-top: 0px\;" target="_blank">Stock and Leader&rsquo\;s</a>&nbsp\;<a href="http://www.stockandleader.com/business-law/employment-labor-attorneys" rel="nofollow" style="color: rgb(0\, 161\, 238)\; text-decoration: none\;" target="_blank">Employment Law Group</a>&nbsp\;for a lunch program covering the latest topics in business and culture.</p>\n\n<p>11:30 a.m. - 12:00 p.m. &nbsp\;Lunch</p>\n\n<p>12:00 p.m. - 2:00 p.m. &nbsp\;Program</p>\n\n<p><strong>Medical Marijuana: Workplace Impacts</strong><br />\nA review of Pennsylvania&rsquo\;s newly enacted medical marijuana laws and what it means for employers.</p>\n\n<p><strong>Transgender Issues and Developments</strong><br />\nA practical look at gender identity and accommodations.</p>\n\n<p><strong>Healthcare: A Five Year Forecast</strong><br />\nThe current state of healthcare and an in-depth look at what&rsquo\;s to come.</p>\n\n<p><strong>$50 registration fee and reservations required by September 6\, 2016.</strong></p>\n\n<p><em>This program may be submitted for SHRM credits.</em></p>\n\n<p><em>This program has been submitted to the HR Certification Institute for Review.</em></p>\n\n<p><em>No-shows will not be refunded but will receive program materials.</em></p>\n
LOCATION:Country Club of York 1400 Country Club Road York\, PA 17403
UID:e.1500.1177
SEQUENCE:3
DTSTAMP:20260422T074413Z
URL:https://business.hanoverchamber.com/events/details/when-business-and-culture-collide-the-new-era-of-employment-09-13-2016-1177
END:VEVENT

END:VCALENDAR
