BEGIN:VCALENDAR
VERSION:2.0
PRODID:-//ChamberMaster//Event Calendar 2.0//EN
METHOD:PUBLISH
X-PUBLISHED-TTL:P3D
REFRESH-INTERVAL:P3D
CALSCALE:GREGORIAN
BEGIN:VEVENT
DTSTART:20171018T203000Z
DTEND:20171018T223000Z
X-MICROSOFT-CDO-ALLDAYEVENT:FALSE
SUMMARY:What's New at DEP
DESCRIPTION:Alexandra Chiaruttini\, Chief Counsel for the Department of Environmental Protection\, will address the latest DEP developments that could impact the region's businesses\, local government entities\, and the agricultural community.\n\n\n\nLearn About:\n\n	Chesapeake Bay\n	New Stormwater Issues\n	Environmental Rights Amendment\n	Permitting\n	DEP Staffing Issues\n	Drinking Water\n\n4:30 p.m. - Drinks & Hors d'oeuvres\n\n5:00 - 6:00 p.m. - Program\n\n6:00 p.m. - Drinks & Hors d'oeuvres
X-ALT-DESC;FMTTYPE=text/html:<span style="background-color:rgb(255\, 255\, 255)\; color:rgb(51\, 51\, 51)\; font-family:sans-serif\,arial\,verdana\,trebuchet ms\; font-size:13px">Alexandra Chiaruttini\, Chief Counsel for the Department of Environmental Protection\, will address the latest DEP developments that could impact the region&rsquo\;s businesses\, local government entities\, and the agricultural community.<br />\n<br />\nLearn About:</span>\n<ul>\n	<li>Chesapeake Bay</li>\n	<li>New Stormwater Issues</li>\n	<li>Environmental Rights Amendment</li>\n	<li>Permitting</li>\n	<li>DEP Staffing Issues</li>\n	<li>Drinking Water</li>\n</ul>\n<span style="background-color:rgb(255\, 255\, 255)\; color:rgb(51\, 51\, 51)\; font-family:sans-serif\,arial\,verdana\,trebuchet ms\; font-size:13px">4:30 p.m. - Drinks &amp\; Hors d&rsquo\;oeuvres</span><br />\n<span style="background-color:rgb(255\, 255\, 255)\; color:rgb(51\, 51\, 51)\; font-family:sans-serif\,arial\,verdana\,trebuchet ms\; font-size:13px">5:00 - 6:00 p.m. - Program</span><br />\n<span style="background-color:rgb(255\, 255\, 255)\; color:rgb(51\, 51\, 51)\; font-family:sans-serif\,arial\,verdana\,trebuchet ms\; font-size:13px">6:00 p.m. - Drinks &amp\; Hors d&rsquo\;oeuvres</span>
LOCATION:Out Door Country Club
UID:e.1500.3076
SEQUENCE:3
DTSTAMP:20260421T105733Z
URL:https://business.hanoverchamber.com/events/details/what-s-new-at-dep-3076
END:VEVENT

END:VCALENDAR
