BEGIN:VCALENDAR
VERSION:2.0
PRODID:-//ChamberMaster//Event Calendar 2.0//EN
METHOD:PUBLISH
X-PUBLISHED-TTL:P3D
REFRESH-INTERVAL:P3D
CALSCALE:GREGORIAN
BEGIN:VEVENT
DTSTART:20160428T203000Z
DTEND:20160428T220000Z
X-MICROSOFT-CDO-ALLDAYEVENT:FALSE
SUMMARY:What?s Hot at DEP? - Potential Impacts on Businesses\, Municipalities and Farms
DESCRIPTION:Alexandra Chiaruttini\, Chief Counsel for the Department of Environmental Protection\, will address the latest DEP developments that could impact the region's businesses\, local government entities\, and the agricultural community.\n\n \n\nLearn About:\n\n\n	Chesapeake Bay Requirements\n	Stormwater Management\n	Compliance Initiatives\n	DEP's Regulatory Agenda\n\n4:30 p.m. - Drinks & Hors d'oeuvres\n\n5:00 - 6:00 p.m. - Program\n\n6:00 p.m. - Drinks & Hors d'oeuvres\n\n \n\nRegistration is required by April 21.\n\nRegister online at StockandLeader.com\n\nContact Emily Kustanbauter\, enk@stockandleader.com or 717.846.9800.\n\n \n\nHosted by:  Stock and Leader\, Attorneys at Law\n\n \n\nSponsored by:\n\nYork County Economic Alliance\n\nThe Manufacturers' Association\n\nPennAg Industries
X-ALT-DESC;FMTTYPE=text/html:Alexandra Chiaruttini\, Chief Counsel for the Department of Environmental Protection\, will address the latest DEP developments that could impact the region&rsquo\;s businesses\, local government entities\, and the agricultural community.<br />\n&nbsp\;<br />\n<strong>Learn About:</strong>\n\n<ul>\n	<li>Chesapeake Bay Requirements</li>\n	<li>Stormwater Management</li>\n	<li>Compliance Initiatives</li>\n	<li>DEP&rsquo\;s Regulatory Agenda</li>\n</ul>\n4:30 p.m. - Drinks &amp\; Hors d&rsquo\;oeuvres<br />\n5:00 - 6:00 p.m. - Program<br />\n6:00 p.m. - Drinks &amp\; Hors d&rsquo\;oeuvres<br />\n&nbsp\;<br />\n<strong>Registration is required by April 21.</strong><br />\nRegister online at StockandLeader.com<br />\nContact Emily Kustanbauter\, enk@stockandleader.com or 717.846.9800.<br />\n&nbsp\;<br />\n<strong>Hosted by:</strong>&nbsp\; <a href="http://www.stockandleader.com/">Stock and Leader\, Attorneys at Law</a><br />\n&nbsp\;<br />\n<strong>Sponsored by:</strong><br />\nYork County Economic Alliance<br />\nThe Manufacturers&rsquo\; Association<br />\nPennAg Industries
LOCATION:Out Door Country Club 1157 Detwiler Drive York\, PA 17404
UID:e.1500.1103
SEQUENCE:3
DTSTAMP:20260422T150355Z
URL:https://business.hanoverchamber.com/events/details/what-s-hot-at-dep-potential-impacts-on-businesses-municipalities-and-farms-04-28-2016-1103
END:VEVENT

END:VCALENDAR
