BEGIN:VCALENDAR
VERSION:2.0
PRODID:-//ChamberMaster//Event Calendar 2.0//EN
METHOD:PUBLISH
X-PUBLISHED-TTL:P3D
REFRESH-INTERVAL:P3D
CALSCALE:GREGORIAN
BEGIN:VEVENT
DTSTART:20151209T222500Z
DTEND:20151210T003000Z
X-MICROSOFT-CDO-ALLDAYEVENT:FALSE
SUMMARY:Wells Fargo Meet & Greet
DESCRIPTION:Wells Fargo Business Banking Group is sponsoring a Meet & Greet on Wednesday\, December 9th from 5:30 pm   7:30pm at Miscreation Brewing Company in downtown Hanover.  Please come out and join us for complimentary hors d'oeuvres and refreshments\, provided by Miscreation Brewing and Warehouse Gourmet.  In attendance will be our local team and our Product Managers from various specialty groups such as: SBA Lending\, Equipment Finance\, Healthcare and Practice Finance\, 401K\, Treasury Management and Insurance. \n\n \n\nPlease RSVP by December 2nd to:\n\nSteven Fisher\n\nSteven.c.fisher@wellsfargo.com\n\nTel: (717) 815-8978\n\n \n\nWe are very much looking forward to meeting everyone!
X-ALT-DESC;FMTTYPE=text/html:Wells Fargo Business Banking Group is sponsoring a Meet &amp\; Greet&nbsp\;on Wednesday\, December 9th from 5:30&nbsp\;pm &ndash\; 7:30pm&nbsp\;at Miscreation Brewing Company in downtown Hanover. &nbsp\;Please come out and join us for complimentary hors d&rsquo\;oeuvres and refreshments\, provided by Miscreation Brewing and Warehouse Gourmet.&nbsp\; In attendance will be our local team and our Product Managers from various specialty groups such as: SBA Lending\, Equipment Finance\, Healthcare and Practice Finance\, 401K\, Treasury Management and Insurance.&nbsp\;<br />\n&nbsp\;<br />\nPlease RSVP by December 2<sup>nd</sup> to:<br />\nSteven Fisher<br />\n<a href="mailto:Steven.c.fisher@wellsfargo.com">Steven.c.fisher@wellsfargo.com</a><br />\nTel: (717) 815-8978<br />\n&nbsp\;<br />\nWe are very much looking forward to meeting everyone!
LOCATION:Miscreation Brewing Company 6 Center Square Hanover\, PA 17331
UID:e.1500.964
SEQUENCE:3
DTSTAMP:20260422T210131Z
URL:https://business.hanoverchamber.com/events/details/wells-fargo-meet-greet-12-09-2015-964
END:VEVENT

END:VCALENDAR
