BEGIN:VCALENDAR
VERSION:2.0
PRODID:-//ChamberMaster//Event Calendar 2.0//EN
METHOD:PUBLISH
X-PUBLISHED-TTL:P3D
REFRESH-INTERVAL:P3D
CALSCALE:GREGORIAN
BEGIN:VEVENT
DTSTART:20180630T170000Z
DTEND:20180630T190000Z
X-MICROSOFT-CDO-ALLDAYEVENT:FALSE
SUMMARY:Walk for Rusty and Paws for a Purpose
DESCRIPTION:Join us at the Farm Winery for a dog walk through the vineyard on Saturday\, June 30th at 1pm. The entrance fee for the walk is a donation of any amount to the SPCA. These donations will be collected the day of the walk and may be in the form of cash or a check made out to the Adams County SPCA. Walkers and their furry friends who would like a Doggie Bag filled with fun treats must pre-register by calling the Winery at 717-334-4631 by June 22nd. Doggie Bags are $15 each. Walkers who are 21 or older may also enjoy a nice refreshing cup of Rusty's Red while they walk for just $5 (cash only please). A portion of the proceeds from the Doggie Bags and the wine will also be donated to the SPCA. Following the Walk for Rusty\, join us for Paws for a Purpose. From 2pm-5pm\, enjoy music provided by HD Entertainment\, wood-fired pizzas\, a gourmet food truck\, pet-related vendors\, and demos and talks. Some of the demos include: nail trimming from Kozmo Kuts\, K9 scent work and bloodhound training from Summit Search and Rescue\, and many more! This is a free event\; cash recommended for vendors and donations.
X-ALT-DESC;FMTTYPE=text/html:Join us at the Farm Winery for a dog walk through the vineyard on Saturday\, June 30th at 1pm. The entrance fee for the walk is a donation of any amount to the SPCA. These donations will be collected the day of the walk and may be in the form of cash or a check made out to the Adams County SPCA. Walkers and their furry friends who would like a Doggie Bag filled with fun treats must pre-register by calling the Winery at 717-334-4631 by June 22nd. Doggie Bags are $15 each. Walkers who are 21 or older may also enjoy a nice refreshing cup of Rusty&rsquo\;s Red while they walk for just $5 (cash only please). A portion of the proceeds from the Doggie Bags and the wine will also be donated to the SPCA. Following the Walk for Rusty\, join us for Paws for a Purpose. From 2pm-5pm\, enjoy music provided by HD Entertainment\, wood-fired pizzas\, a gourmet food truck\, pet-related vendors\, and demos and talks. Some of the demos include: nail trimming from Kozmo Kuts\, K9 scent work and bloodhound training from Summit Search and Rescue\, and many more! This is a free event\; cash recommended for vendors and donations.
LOCATION:Adams County Winery 251 Peach Tree Rd. Orrtanna\, PA 17353
UID:e.1500.4206
SEQUENCE:3
DTSTAMP:20260420T212336Z
URL:https://business.hanoverchamber.com/events/details/walk-for-rusty-and-paws-for-a-purpose-4206
END:VEVENT

END:VCALENDAR
