BEGIN:VCALENDAR
VERSION:2.0
PRODID:-//ChamberMaster//Event Calendar 2.0//EN
METHOD:PUBLISH
X-PUBLISHED-TTL:P3D
REFRESH-INTERVAL:P3D
CALSCALE:GREGORIAN
BEGIN:VEVENT
DTSTART:20160812T220000Z
DTEND:20160813T000000Z
X-MICROSOFT-CDO-ALLDAYEVENT:FALSE
SUMMARY:Walk a mile in her shoes
DESCRIPTION:The walk is to support victims of domestic violence in the greater Hanover community through Hanover YWCA Safe Home and Still Waters. Over one hundred men will walk in high heels\, while families and friends walk along to cheer them on.
X-ALT-DESC;FMTTYPE=text/html:The walk is to support victims of domestic violence in the greater Hanover community through Hanover YWCA Safe Home and Still Waters. Over one hundred men will walk in high heels\, while families and friends walk along to cheer them on.
LOCATION:Warehime Myers Mansion 305 Baltimore Street Hanover\, PA 17331
UID:e.1500.1127
SEQUENCE:3
DTSTAMP:20260422T102312Z
URL:https://business.hanoverchamber.com/events/details/walk-a-mile-in-her-shoes-08-12-2016-1127
END:VEVENT

END:VCALENDAR
