BEGIN:VCALENDAR
VERSION:2.0
PRODID:-//ChamberMaster//Event Calendar 2.0//EN
METHOD:PUBLISH
X-PUBLISHED-TTL:P3D
REFRESH-INTERVAL:P3D
CALSCALE:GREGORIAN
BEGIN:VEVENT
DTSTART:20151003T140000Z
DTEND:20151003T180000Z
X-MICROSOFT-CDO-ALLDAYEVENT:FALSE
SUMMARY:Wagonfest
DESCRIPTION:Gotta love the nostalgia of those vintage station wagons!  The GM Long roof forum group invites you to show your wagon or just come out to see those on view for this show of longroof wagons here at the AACA Museum.\n\nThe GM Longroof Forum focuses on GM station wagons from 1991   1996 but all makes\, models and years are welcome to join in for the day.\n\nFor more information on registering your vehicle for the show\, you can contact Tim at Swinker2@msn.com\n\nhttp://gmlongroof.4umer.com/
X-ALT-DESC;FMTTYPE=text/html:<p style="color: rgb(34\, 34\, 34)\; line-height: normal\; font-family: arial\, sans-serif\; font-size: 12.8px\;">Gotta love the nostalgia of those vintage station wagons!&nbsp\; The GM Long roof forum group invites you to show your wagon or just come out to see those on view for this show of longroof wagons here at the AACA Museum.</p>\n\n<p style="color: rgb(34\, 34\, 34)\; line-height: normal\; font-family: arial\, sans-serif\; font-size: 12.8px\;">The GM Longroof Forum focuses on GM station wagons from 1991 &ndash\; 1996 but all makes\, models and years are welcome to join in for the day.</p>\n\n<p style="color: rgb(34\, 34\, 34)\; line-height: normal\; font-family: arial\, sans-serif\; font-size: 12.8px\;">For more information on registering your vehicle for the show\, you can contact Tim at&nbsp\;<a href="mailto:Swinker2@msn.com" style="color: rgb(17\, 85\, 204)\;" target="_blank">Swinker2@msn.com</a></p>\n\n<p style="color: rgb(34\, 34\, 34)\; line-height: normal\; font-family: arial\, sans-serif\; font-size: 12.8px\;"><a href="http://gmlongroof.4umer.com/" style="color: rgb(17\, 85\, 204)\;" target="_blank"><font color="#f7a71a">http://gmlongroof.4umer.com/</font></a></p>\n
LOCATION:AACA Museum 161 Museum Drive Hershey\, PA 17033
UID:e.1500.978
SEQUENCE:3
DTSTAMP:20260423T010503Z
URL:https://business.hanoverchamber.com/events/details/wagonfest-10-03-2015-978
END:VEVENT

END:VCALENDAR
