BEGIN:VCALENDAR
VERSION:2.0
PRODID:-//ChamberMaster//Event Calendar 2.0//EN
METHOD:PUBLISH
X-PUBLISHED-TTL:P3D
REFRESH-INTERVAL:P3D
CALSCALE:GREGORIAN
BEGIN:VEVENT
DTSTART:20170604T190000Z
DTEND:20170604T190000Z
X-MICROSOFT-CDO-ALLDAYEVENT:FALSE
SUMMARY:VNA of Hanover & Spring Grove Butterfly Release
DESCRIPTION:9th Annual Butterfly Release benefiting the VNA Hospice program. The butterfly release will be preceded by a brief Celebration of Life service honoring and remembering dearly departed loved ones. Butterflies may be purchased for $25 each by contacting the VNA at 637-1227 or via our website at www.vnahanover.org. The Butterfly Release is open to the public and the entire family is invited to attend. For your comfort\, please bring a lawn chair or blanket.
X-ALT-DESC;FMTTYPE=text/html:9th Annual Butterfly Release benefiting the VNA Hospice program. The butterfly release will be preceded by a brief Celebration of Life service honoring and remembering dearly departed loved ones. Butterflies may be purchased for $25 each by contacting the VNA at 637-1227 or via our website at www.vnahanover.org. The Butterfly Release is open to the public and the entire family is invited to attend. For your comfort\, please bring a lawn chair or blanket.
LOCATION:St. David's Evangelical Lutheran Church\, 1032 Musselman Road\, Hanover\, PA
UID:e.1500.2504
SEQUENCE:3
DTSTAMP:20260421T172230Z
URL:https://business.hanoverchamber.com/events/details/vna-of-hanover-spring-grove-butterfly-release-2504
END:VEVENT

END:VCALENDAR
