BEGIN:VCALENDAR
VERSION:2.0
PRODID:-//ChamberMaster//Event Calendar 2.0//EN
METHOD:PUBLISH
X-PUBLISHED-TTL:P3D
REFRESH-INTERVAL:P3D
CALSCALE:GREGORIAN
BEGIN:VEVENT
DTSTART:20150912T120000Z
DTEND:20150912T140000Z
X-MICROSOFT-CDO-ALLDAYEVENT:FALSE
SUMMARY:VNA of Hanover's Hospice Remembrance 5K Run/Walk
DESCRIPTION:5K Run/Walk
X-ALT-DESC;FMTTYPE=text/html:5K Run/Walk
LOCATION:Moul Field\, Hanover\, PA
UID:e.1500.962
SEQUENCE:3
DTSTAMP:20260423T024507Z
URL:https://business.hanoverchamber.com/events/details/vna-of-hanover-s-hospice-remembrance-5k-run-walk-09-12-2015-962
END:VEVENT

END:VCALENDAR
