BEGIN:VCALENDAR
VERSION:2.0
PRODID:-//ChamberMaster//Event Calendar 2.0//EN
METHOD:PUBLISH
X-PUBLISHED-TTL:P3D
REFRESH-INTERVAL:P3D
CALSCALE:GREGORIAN
BEGIN:VEVENT
DTSTART:20170912T133000Z
DTEND:20170912T150000Z
X-MICROSOFT-CDO-ALLDAYEVENT:FALSE
SUMMARY:VNA of Hanover and Spring Grove Hospice Volunteer Meet and Greet
DESCRIPTION:This is an open invitation to anyone who has ever considered being a volunteer. Come to the meet and greet to learn more about the VNA Hospice Volunteer Program. There will be a panel of current volunteers and staff members present to answer questions and address any fears and misconceptions you may have about hospice volunteering. Refreshments will be served.
X-ALT-DESC;FMTTYPE=text/html:This is an open invitation to anyone who has ever considered being a volunteer. Come to the meet and greet to learn more about the VNA Hospice Volunteer Program. There will be a panel of current volunteers and staff members present to answer questions and address any fears and misconceptions you may have about hospice volunteering. Refreshments will be served.
LOCATION:Gettysburg Library 3rd Floor Meeting Room 140 Baltimore St. Gettysburg\, PA 17325
UID:e.1500.3013
SEQUENCE:3
DTSTAMP:20260421T124031Z
URL:https://business.hanoverchamber.com/events/details/vna-of-hanover-and-spring-grove-hospice-volunteer-meet-and-greet-3013
END:VEVENT

END:VCALENDAR
