BEGIN:VCALENDAR
VERSION:2.0
PRODID:-//ChamberMaster//Event Calendar 2.0//EN
METHOD:PUBLISH
X-PUBLISHED-TTL:P3D
REFRESH-INTERVAL:P3D
CALSCALE:GREGORIAN
BEGIN:VEVENT
DTSTART:20160106T190000Z
DTEND:20160106T203000Z
X-MICROSOFT-CDO-ALLDAYEVENT:FALSE
SUMMARY:Using Exemptions to Your Advantage
DESCRIPTION:Join Stock and Leader's Agricultural Industry Group during the 2016 Keystone Farm Show for a program addressing:\n\n\n	Clean Water Act Exemptions\n\n	\n		Stormwater and Waters of the U.S.\n	\n	\n	Tax Exemptions\n	\n		Inheritance Tax\n		Clean and Green\n	\n	\n	Medicare and Medicaid\n\nSnacks and coffee will be provided.\n\n\n\nRegistration is required by December 30\, 2015.\n\n\n\nStop by the Stock and Leader booth (L200) during the 2016 Keystone Farm Show for more information on these and other topics relevant to your farming operation or agribusiness.
X-ALT-DESC;FMTTYPE=text/html:<span style="background-color:rgb(255\, 255\, 255)\; color:rgb(51\, 51\, 51)\; font-family:sans-serif\,arial\,verdana\,trebuchet ms\; font-size:13px">Join&nbsp\;</span><a href="http://www.stockandleader.com/" style="color: rgb(7\, 130\, 193)\; font-family: sans-serif\, Arial\, Verdana\, 'Trebuchet MS'\; font-size: 13px\; line-height: 20.7999992370605px\;">Stock and Leader&#39\;s</a><span style="background-color:rgb(255\, 255\, 255)\; color:rgb(51\, 51\, 51)\; font-family:sans-serif\,arial\,verdana\,trebuchet ms\; font-size:13px">&nbsp\;</span><a href="http://www.stockandleader.com/services/individuals-and-families/agricultural-industry.aspx" style="color: rgb(7\, 130\, 193)\; font-family: sans-serif\, Arial\, Verdana\, 'Trebuchet MS'\; font-size: 13px\; line-height: 20.7999992370605px\;">Agricultural Industry Group</a><span style="background-color:rgb(255\, 255\, 255)\; color:rgb(51\, 51\, 51)\; font-family:sans-serif\,arial\,verdana\,trebuchet ms\; font-size:13px">&nbsp\;during the 2016 Keystone Farm Show for a program addressing:</span>\n\n<ul>\n	<li><strong>Clean Water Act Exemptions</strong>\n\n	<ul>\n		<li>Stormwater and Waters of the U.S.</li>\n	</ul>\n	</li>\n	<li><strong>Tax Exemptions</strong>\n	<ul>\n		<li>Inheritance Tax</li>\n		<li>Clean and Green</li>\n	</ul>\n	</li>\n	<li><strong>Medicare and Medicaid</strong></li>\n</ul>\n<em>Snacks and coffee will be provided.</em><br />\n<br />\n<em><strong>Registration is required by December 30\, 2015.</strong><br />\n<br />\nStop by the Stock and Leader booth (L200) during the 2016 Keystone Farm Show for more information on these and other topics relevant to your farming operation or agribusiness.</em>
LOCATION:York Fairgrounds\, Utz Arena\, Building #1\, Seminar Room #2
UID:e.1500.1029
SEQUENCE:3
DTSTAMP:20260422T190510Z
URL:https://business.hanoverchamber.com/events/details/using-exemptions-to-your-advantage-01-06-2016-1029
END:VEVENT

END:VCALENDAR
