BEGIN:VCALENDAR
VERSION:2.0
PRODID:-//ChamberMaster//Event Calendar 2.0//EN
METHOD:PUBLISH
X-PUBLISHED-TTL:P3D
REFRESH-INTERVAL:P3D
CALSCALE:GREGORIAN
BEGIN:VEVENT
DTSTART:20161009T180000Z
DTEND:20161009T210000Z
X-MICROSOFT-CDO-ALLDAYEVENT:FALSE
SUMMARY:TrueNorth Clutch it Up Purse Benefit Auction
DESCRIPTION:Enjoy a fabulously-fun afternoon hanging out with your friends\, tasting delicious hors d'oeuvres\, sipping a glass of sparkling wine and the best part... PURSE SHOPPING! And it gets better. The silent action includes a 4 night/ 3 day stay in Las Vegas! \n\nProceeds benefit our NEW Autism Center.
X-ALT-DESC;FMTTYPE=text/html:Enjoy a fabulously-fun afternoon hanging out with your friends\, tasting delicious hors d&#39\;oeuvres\, sipping a glass of sparkling wine and the best part... PURSE SHOPPING! And it gets better. The silent action includes a 4 night/ 3 day stay in Las Vegas!&nbsp\;<br />\nProceeds benefit our NEW Autism Center.<br />\n&nbsp\;
LOCATION:Hanover Country Club Abbottstown\, PA
UID:e.1500.1210
SEQUENCE:3
DTSTAMP:20260422T074229Z
URL:https://business.hanoverchamber.com/events/details/truenorth-clutch-it-up-purse-benefit-auction-10-09-2016-1210
END:VEVENT

END:VCALENDAR
