BEGIN:VCALENDAR
VERSION:2.0
PRODID:-//ChamberMaster//Event Calendar 2.0//EN
METHOD:PUBLISH
X-PUBLISHED-TTL:P3D
REFRESH-INTERVAL:P3D
CALSCALE:GREGORIAN
BEGIN:VEVENT
DTSTART:20161019T130000Z
DTEND:20161019T190000Z
X-MICROSOFT-CDO-ALLDAYEVENT:FALSE
SUMMARY:TREYSTA technology management/ Block Business Solutions Annual Technology Show
DESCRIPTION:TREYSTA technology management and Block Business Solutions have teamed up to present a seminar called "Total Business Optimization\," where you can learn:\n\n- How you can go from a pile of papers and a messy desk to a smooth document flow process.\n\no Benefit: Lower anxiety and being more efficient.\n\n- How you can reduce the time it takes you to get tasks done\;\n\no Benefit: Eliminate nuisance tasks and concentrate on more important projects.\n\n- How you can make sure that your data is secure and always accessible\;\n\no Benefit: You can sleep at night knowing your data is secure!\n\n- How you can eliminate many of your IT headaches with proactive technology management:\n\no Benefit: Dramatically reduce downtime and keep everyone working.\n\nThis seminar is NOT going to be a boring lecture! Instead\, we will show how to make technology work for you\, through role playing and actual demonstrations.
X-ALT-DESC;FMTTYPE=text/html:<p id="yui_3_17_2_1_1470058575815_399"><strong id="yui_3_17_2_1_1470058575815_400">TREYSTA technology management</strong> and <strong>Block Business Solutions</strong> have teamed up to present a seminar called &ldquo\;Total Business Optimization\,&rdquo\; where you can learn:</p>\n\n<p>- How you can go from a pile of papers and a messy desk to a smooth document flow process.</p>\n\n<p>o Benefit: <em>Lower anxiety and being more efficient.</em></p>\n\n<p>- How you can reduce the time it takes you to get tasks done\;</p>\n\n<p>o Benefit: <em>Eliminate nuisance tasks and concentrate on more important projects.</em></p>\n\n<p>- How you can make sure that your data is secure and always accessible\;</p>\n\n<p>o Benefit: <em>You can sleep at night knowing your data is secure!</em></p>\n\n<p>- How you can eliminate many of your IT headaches with proactive technology management<em>:</em></p>\n\n<p>o Benefit: <em>Dramatically reduce downtime and keep everyone working.</em></p>\n\n<p>This seminar is<strong><em> NOT</em></strong> going to be a boring lecture! Instead\, we will show how to make technology work for you\, through role playing and actual demonstrations. &nbsp\;</p>\n
LOCATION:Inn of 1863 516 Baltimore St\, Gettysburg\, PA 17325
UID:e.1500.1204
SEQUENCE:3
DTSTAMP:20260422T055921Z
URL:https://business.hanoverchamber.com/events/details/treysta-technology-management-block-business-solutions-annual-technology-show-10-19-2016-1204
END:VEVENT

END:VCALENDAR
