BEGIN:VCALENDAR
VERSION:2.0
PRODID:-//ChamberMaster//Event Calendar 2.0//EN
METHOD:PUBLISH
X-PUBLISHED-TTL:P3D
REFRESH-INTERVAL:P3D
CALSCALE:GREGORIAN
BEGIN:VEVENT
DTSTART:20160313T160000Z
DTEND:20160313T210000Z
X-MICROSOFT-CDO-ALLDAYEVENT:FALSE
SUMMARY:Tour De Tanks
DESCRIPTION:Sip away winter chills and taste the year's newest wines before anyone else! Each weekend of the signature Tour de Tanks event in March\, guests receive exclusive tastings from winery tanks or barrels\, special tours or educational experiences\, light refreshments\, special commemoratives and a 10 percent discount on wine purchases.\n\nFor more information visit http://www.yorkpa.org/things-to-do/mason-dixon-wine-trail
X-ALT-DESC;FMTTYPE=text/html:<span style="background-image:initial\;background-attachment:initial\;background-size:initial\;background-origin:initial\;background-clip:initial\;background-position:initial\;background-repeat:initial\;"><span style="font-family:arial\,sans-serif\;"><span style="font-size:10pt\;">Sip away winter chills and taste the year&#39\;s newest wines before anyone else! Each weekend of the signature Tour de Tanks event in March\, guests receive exclusive tastings from winery tanks or barrels\, special tours or educational experiences\, light refreshments\, special commemoratives and a 10 percent discount on wine purchases.</span></span></span><br />\n<span style="font-family:arial\,sans-serif\;"><span style="font-size:10pt\;"><span style="background-image:initial\;background-attachment:initial\;background-size:initial\;background-origin:initial\;background-clip:initial\;background-position:initial\;background-repeat:initial\;">For more information visit</span>&nbsp\;</span></span><a href="http://www.yorkpa.org/things-to-do/mason-dixon-wine-trail"><span style="font-family:arial\,sans-serif\;"><span style="font-size:10pt\;">http://www.yorkpa.org/things-to-do/</span></span><span style="text-decoration:none\;"><span style="font-family:arial\,sans-serif\;"><span style="font-size:10pt\;">mason-dixon-wine-trail</span></span></span></a>
LOCATION:16 Wineries and one Distillery along the Mason-Dixon Wine Trail
UID:e.1500.1068
SEQUENCE:3
DTSTAMP:20260422T161334Z
URL:https://business.hanoverchamber.com/events/details/tour-de-tanks-03-13-2016-1068
END:VEVENT

END:VCALENDAR
