BEGIN:VCALENDAR
VERSION:2.0
PRODID:-//ChamberMaster//Event Calendar 2.0//EN
METHOD:PUBLISH
X-PUBLISHED-TTL:P3D
REFRESH-INTERVAL:P3D
CALSCALE:GREGORIAN
BEGIN:VEVENT
DTSTART:20160401T130000Z
DTEND:20160401T173000Z
X-MICROSOFT-CDO-ALLDAYEVENT:FALSE
SUMMARY:The Top Ten Mistakes That Break Up a Family Business ?
DESCRIPTION:Stock and Leader's Agricultural Industry Group will host professional speaker\, author\, and business consultant Jolene Brown\, CSP\, for a half-day program addressing the most common mistakes that break up a family business and what you can do to prevent it.\n\n\n\nWhat You'll Learn:\n\n\n	Top 10 assumptions that create major problems for intergenerational and family businesses.\n	What questions must be answered before someone joins the family business.\n	How to translate business agreement conversations to legal written documentation.\n	How to recognize the value and impact of in-laws\, off-site family\, and employees.\n	How to discuss egos\, emotions\, and decisions involved in estate and succession planning.\n\nEach family will receive 7 take-home tools to increase productivity\, profitability\, and document the succession of a business.\n\n\n\nA panel of key advisors will also be on hand to answer questions and provide valuable insight based on their experience working with family businesses.\n\n\n\nLunch will be provided.\n\n\n\nRegistration is required by March 25.  \n\n\n\nWe encourage the entire family to attend and ask that you list the names of each individual on your registration form for accurate accommodations.
X-ALT-DESC;FMTTYPE=text/html:<span style="color:#333333"><span style="font-family:arial\,sans-serif"><span style="font-size:10.0pt"><a href="http://www.stockandleader.com/"><span style="color:#0782C1">Stock and Leader&#39\;s</span></a>&nbsp\;<a href="http://www.stockandleader.com/services/businesses-and-entrepreneurs/agricultural-industry.aspx"><span style="color:#0782C1">Agricultural Industry Group</span></a>&nbsp\;will host professional speaker\, author\, and business consultant Jolene Brown\, CSP\,&nbsp\;for a half-day program addressing the most common mistakes that break up a family business and what you can do to prevent it.</span></span></span><br />\n<br />\n<span style="color:#333333"><span style="font-family:arial\,sans-serif"><span style="font-size:10.0pt">What You&#39\;ll Learn:</span></span></span>\n\n<ul>\n	<li><span style="font-family:arial\,sans-serif"><span style="font-size:10.0pt">Top 10 assumptions that create major problems for intergenerational and family businesses.</span></span></li>\n	<li><span style="font-family:arial\,sans-serif"><span style="font-size:10.0pt">What questions must be answered before someone&nbsp\;joins&nbsp\;the&nbsp\;family business.</span></span></li>\n	<li><span style="font-family:arial\,sans-serif"><span style="font-size:10.0pt">How to translate business agreement conversations to legal written&nbsp\;documentation.</span></span></li>\n	<li><span style="font-family:arial\,sans-serif"><span style="font-size:10.0pt">How to recognize the value and impact of in-laws\, off-site family\, and employees.</span></span></li>\n	<li><span style="font-family:arial\,sans-serif"><span style="font-size:10.0pt">How to discuss egos\, emotions\, and decisions involved in estate and succession planning.</span></span></li>\n</ul>\n<span style="color:#333333"><span style="font-family:arial\,sans-serif"><span style="font-size:10.0pt">Each family will receive 7 take-home tools to increase productivity\, profitability\, and document the succession of a business.</span></span></span><br />\n<br />\n<span style="color:#333333"><span style="font-family:arial\,sans-serif"><span style="font-size:10.0pt">A panel of key advisors will also be on hand to&nbsp\;answer questions and provide valuable insight based on their experience working with family businesses.</span></span></span><br />\n<br />\n<span style="color:#333333"><span style="font-family:arial\,sans-serif"><span style="font-size:10.0pt">Lunch will be provided.</span></span></span><br />\n<br />\n<strong><span style="color:#333333"><span style="font-family:arial\,sans-serif"><span style="font-size:10.0pt">Registration is required by March 25. &nbsp\;</span></span></span></strong><br />\n<br />\n<strong><em><span style="color:#333333"><span style="font-family:arial\,sans-serif"><span style="font-size:10.0pt">We encourage the entire&nbsp\;family to attend&nbsp\;and ask that you list the names of&nbsp\;each individual on your registration form for accurate accommodations.</span></span></span></em></strong>
LOCATION:The Great American Saloon\, 20 Dairyland Square\, Red Lion
UID:e.1500.1060
SEQUENCE:3
DTSTAMP:20260422T150302Z
URL:https://business.hanoverchamber.com/events/details/the-top-ten-mistakes-that-break-up-a-family-business-04-01-2016-1060
END:VEVENT

END:VCALENDAR
