BEGIN:VCALENDAR
VERSION:2.0
PRODID:-//ChamberMaster//Event Calendar 2.0//EN
METHOD:PUBLISH
X-PUBLISHED-TTL:P3D
REFRESH-INTERVAL:P3D
CALSCALE:GREGORIAN
BEGIN:VEVENT
DTSTART:20170111T190000Z
DTEND:20170111T203000Z
X-MICROSOFT-CDO-ALLDAYEVENT:FALSE
SUMMARY:The Legal Landscape of 21st Century Agriculture
DESCRIPTION:Join Stock and Leader's Agricultural Industry Group during the 2017 Keystone Farm Show to learn about:\n\n\n	1031 Exchange Interplay with Agricultural Land Preservation\n	Big Data and Drones\n	Legalization of Medical Marijuana and Hemp\n	The Use of Food Processing Wastes and Storage Tanks on the Farm\n\nRegistration is required by January 4.
X-ALT-DESC;FMTTYPE=text/html:<span style="background-color:rgb(255\, 255\, 255)\; color:rgb(51\, 51\, 51)\; font-family:sans-serif\,arial\,verdana\,trebuchet ms\; font-size:13px">Join&nbsp\;</span><a href="http://www.stockandleader.com/" style="color: rgb(7\, 130\, 193)\; font-family: sans-serif\, Arial\, Verdana\, 'Trebuchet MS'\; font-size: 13px\; line-height: 20.8px\;">Stock and Leader&#39\;s</a><span style="background-color:rgb(255\, 255\, 255)\; color:rgb(51\, 51\, 51)\; font-family:sans-serif\,arial\,verdana\,trebuchet ms\; font-size:13px">&nbsp\;</span><a href="http://www.stockandleader.com/business-law/agricultural-law" style="color: rgb(7\, 130\, 193)\; font-family: sans-serif\, Arial\, Verdana\, 'Trebuchet MS'\; font-size: 13px\; line-height: 20.8px\;">Agricultural Industry</a><span style="background-color:rgb(255\, 255\, 255)\; color:rgb(51\, 51\, 51)\; font-family:sans-serif\,arial\,verdana\,trebuchet ms\; font-size:13px">&nbsp\;Group during the 2017 Keystone Farm Show to learn about:</span>\n\n<ul>\n	<li>1031 Exchange Interplay with Agricultural Land Preservation</li>\n	<li>Big Data and Drones</li>\n	<li>Legalization of Medical Marijuana and Hemp</li>\n	<li>The Use of Food Processing Wastes and Storage Tanks on the Farm</li>\n</ul>\n<span style="background-color:rgb(255\, 255\, 255)\; color:rgb(51\, 51\, 51)\; font-family:sans-serif\,arial\,verdana\,trebuchet ms\; font-size:13px">Registration is required by January 4.</span>
LOCATION:York Fairgrounds\, Utz Arena Building #1\, Seminar Room #2 334 Carlisle Ave. York\, PA 17404
UID:e.1500.2289
SEQUENCE:3
DTSTAMP:20260422T011631Z
URL:https://business.hanoverchamber.com/events/details/the-legal-landscape-of-21st-century-agriculture-2289
END:VEVENT

END:VCALENDAR
