BEGIN:VCALENDAR
VERSION:2.0
PRODID:-//ChamberMaster//Event Calendar 2.0//EN
METHOD:PUBLISH
X-PUBLISHED-TTL:P3D
REFRESH-INTERVAL:P3D
CALSCALE:GREGORIAN
BEGIN:VEVENT
DTSTART:20170419T153000Z
DTEND:20170419T173000Z
X-MICROSOFT-CDO-ALLDAYEVENT:FALSE
SUMMARY:The First 100 Days of the Presidency
DESCRIPTION:Stock and Leader\, Attorneys at Law and Smith Elliott Kearns & Company\, LLC partner to present a lunch program addressing the first 100 days of President Trump's administration and the impact on agriculture.\n\n11:30 - 12:00 p.m. Lunch\n\n12:00 - 1:30 p.m. Program\n\n\n\nClick here to register for the Gettysburg session.
X-ALT-DESC;FMTTYPE=text/html:<p>Stock and Leader\, Attorneys at Law and Smith Elliott Kearns &amp\; Company\, LLC partner to present a lunch program addressing the first 100 days of President Trump&rsquo\;s administration and the impact on agriculture.</p>\n\n<p>11:30 - 12:00 p.m. Lunch</p>\n\n<p>12:00 - 1:30 p.m. Program<br />\n<br />\n<a href="https://www.eventbrite.com/e/the-first-100-days-of-the-trump-presidency-gettysburg-tickets-33018839237?utm_source=eb_email&amp\;utm_medium=email&amp\;utm_campaign=new_event_email&amp\;utm_term=viewmyevent_button">Click here</a> to register for the Gettysburg session.</p>\n
LOCATION:The Great American Saloon 20 Dairyland Square Red Lion\, PA 17356
UID:e.1500.2492
SEQUENCE:3
DTSTAMP:20260421T202543Z
URL:https://business.hanoverchamber.com/events/details/the-first-100-days-of-the-presidency-2492
END:VEVENT

END:VCALENDAR
