BEGIN:VCALENDAR
VERSION:2.0
PRODID:-//ChamberMaster//Event Calendar 2.0//EN
METHOD:PUBLISH
X-PUBLISHED-TTL:P3D
REFRESH-INTERVAL:P3D
CALSCALE:GREGORIAN
BEGIN:VEVENT
DTSTART;VALUE=DATE:20150614
DTEND;VALUE=DATE:20150615
TRANSP:TRANSPARENT
X-MICROSOFT-CDO-ALLDAYEVENT:TRUE
SUMMARY:The Elegance Concours d ?Elegance
DESCRIPTION:Sunday June 14\n\nThe Elegance Concours d 'Elegance\n\n9:00 a.m.   4:00 p.m.\n\nA Concours d 'Elegance garden party featuring 65 of the world's finest collector cars at The Hotel Hershey. These rare and beautiful vehicles are artfully arranged in The Hotel Hersey's classically manicured formal gardens. The Hotel Hershey provides an ideal location for this day of mutual admiration and relaxed camaraderie. The Elegance also features wine tastings\, live music\, fine jewelry displays and sponsor exhibitions featuring restoration shops and fine automobilia.
X-ALT-DESC;FMTTYPE=text/html:<p class="MsoNormal"><strong><u><span style="font-size:10.5pt\;line-height:107%\;\nfont-family:&quot\;Arial&quot\;\,sans-serif\;color:#1C1C1C\;border:none windowtext 1.0pt\;\nmso-border-alt:none windowtext 0in\;padding:0in">Sunday June 14</span></u></strong><br />\n<strong><span style="font-size: 10.5pt\; line-height: 107%\; font-family: Arial\, sans-serif\; color: rgb(28\, 28\, 28)\; border: 1pt none windowtext\; padding: 0in\; background-image: initial\; background-attachment: initial\; background-size: initial\; background-origin: initial\; background-clip: initial\; background-position: initial\; background-repeat: initial\;">The Elegance Concours d &lsquo\;Elegance</span></strong><br />\n<strong><span style="font-size: 10.5pt\; line-height: 107%\; font-family: Arial\, sans-serif\; color: rgb(28\, 28\, 28)\; border: 1pt none windowtext\; padding: 0in\; background-image: initial\; background-attachment: initial\; background-size: initial\; background-origin: initial\; background-clip: initial\; background-position: initial\; background-repeat: initial\;">9:00 a.m. &ndash\; 4:00 p.m.</span></strong><br />\n<span style="font-size: 10.5pt\; line-height: 107%\; font-family: Arial\, sans-serif\; color: black\; background-image: initial\; background-attachment: initial\; background-size: initial\; background-origin: initial\; background-clip: initial\; background-position: initial\; background-repeat: initial\;">A Concours d &lsquo\;Elegance garden party featuring 65 of the world&rsquo\;s finest collector cars at The Hotel Hershey. These rare and beautiful vehicles are artfully arranged in The Hotel Hersey&rsquo\;s classically manicured formal gardens. The Hotel Hershey provides an ideal location for this day of mutual admiration and relaxed camaraderie. The Elegance also features wine tastings\, live music\, fine jewelry displays and sponsor exhibitions featuring restoration shops and fine automobilia.<o:p></o:p></span></p>\n
LOCATION:The Hotel Hershey 100 Hotel Road
UID:e.1500.859
SEQUENCE:3
DTSTAMP:20260423T052518Z
URL:https://business.hanoverchamber.com/events/details/the-elegance-concours-d-elegance-06-14-2015-859
END:VEVENT

END:VCALENDAR
