BEGIN:VCALENDAR
VERSION:2.0
PRODID:-//ChamberMaster//Event Calendar 2.0//EN
METHOD:PUBLISH
X-PUBLISHED-TTL:P3D
REFRESH-INTERVAL:P3D
CALSCALE:GREGORIAN
BEGIN:VEVENT
DTSTART;VALUE=DATE:20150612
DTEND;VALUE=DATE:20150615
TRANSP:TRANSPARENT
X-MICROSOFT-CDO-ALLDAYEVENT:TRUE
SUMMARY:The Elegance at Hershey
DESCRIPTION:The Elegance at Hershey is a Concours d 'Elegance and three day weekend of automotive events held annually in June at The Hotel Hershey for the benefit of Juvenile Diabetes Research Foundation (JDRF). The Elegance celebrates a bygone era when the automobile stirred our imaginations and quickened our hearts. Festivities include The Grand Ascent\, the Elegance 5k Challenge\,The Concorso Bizarro\, The Celebration and The Elegance Concours d 'Elegance. The Elegance was created by a small group of automotive enthusiasts as an independent\, non-profit organization\, dedicated to supporting the JDRF (Juvenile Diabetes Research Foundation) and furthering automotive interests by supporting the AACA Museum and the AACA Library and Research Center. Visit TheEleganceAtHershey.com for more information and to purchase tickets.
X-ALT-DESC;FMTTYPE=text/html:<p style="margin: 0in 0in 0.0001pt\; line-height: 115%\; vertical-align: baseline\; background-image: initial\; background-attachment: initial\; background-size: initial\; background-origin: initial\; background-clip: initial\; background-position: initial\; background-repeat: initial\;"><span style="font-size:10.5pt\;line-height:115%\;\nfont-family:&quot\;Arial&quot\;\,sans-serif\;color:black\;mso-themecolor:text1">The Elegance at Hershey is a Concours d &lsquo\;Elegance and three day weekend of automotive events held annually in June at The Hotel Hershey for the benefit of Juvenile Diabetes Research Foundation (JDRF). The Elegance celebrates a bygone era when the automobile stirred our imaginations and quickened our hearts. Festivities include The Grand Ascent\, the Elegance 5k Challenge\,The Concorso Bizarro\, The Celebration and The Elegance Concours d &lsquo\;Elegance. The Elegance was created by a small group of automotive enthusiasts as an independent\, non-profit organization\, dedicated to supporting the JDRF (Juvenile Diabetes Research Foundation) and furthering automotive interests by supporting the AACA Museum and the AACA Library and Research Center. Visit TheEleganceAtHershey.com for more information and to purchase tickets.<o:p></o:p></span></p>\n
LOCATION:AACA Museum 161 Museum Drive Hershey\, PA 17033
UID:e.1500.857
SEQUENCE:3
DTSTAMP:20260423T052335Z
URL:https://business.hanoverchamber.com/events/details/the-elegance-at-hershey-06-12-2015-857
END:VEVENT

END:VCALENDAR
