BEGIN:VCALENDAR
VERSION:2.0
PRODID:-//ChamberMaster//Event Calendar 2.0//EN
METHOD:PUBLISH
X-PUBLISHED-TTL:P3D
REFRESH-INTERVAL:P3D
CALSCALE:GREGORIAN
BEGIN:VEVENT
DTSTART:20151023T140000Z
DTEND:20151025T220000Z
X-MICROSOFT-CDO-ALLDAYEVENT:FALSE
SUMMARY:Test Drive A Tesla Model S
DESCRIPTION:Tesla's award winning Model S\, now with Autopilot features\, is an evolution in automobile engineering. Our advanced electric drivetrain will propel you from 0 to 60 mph in as little as 2.8 seconds\, without hesitation and without a drop of gasoline. With the highest safety rating in America and up to 270 miles of highway range\, Model S redefines performance driving.\n\nTest Drive appointments are available to experience the award winning Model S.\n\nYour driving session will be 15 minutes long over a predetermined route designed to highlight the capabilities of Model S.\n\nA Tesla Product Specialist will accompany all drives to ensure you optimize your time in Model S.\n\nYou may bring up to three guests to ride in the back seat during your drive.\n\nSign up on the AACA Museum website!
X-ALT-DESC;FMTTYPE=text/html:<p style="color: rgb(34\, 34\, 34)\; line-height: normal\; font-family: arial\, sans-serif\; font-size: 12.8px\;">Tesla&rsquo\;s award winning Model S\, now with Autopilot features\, is an evolution in automobile engineering. Our advanced electric drivetrain will propel you from&nbsp\;<strong>0 to 60 mph in as little as 2.8 seconds</strong>\, without hesitation and without a drop of gasoline. With the highest safety rating in America and up to 270 miles of highway range\, Model S redefines performance driving.</p>\n\n<p style="color: rgb(34\, 34\, 34)\; line-height: normal\; font-family: arial\, sans-serif\; font-size: 12.8px\;"><strong>Test Drive appointments are available to experience the award winning Model S.</strong></p>\n\n<p style="color: rgb(34\, 34\, 34)\; line-height: normal\; font-family: arial\, sans-serif\; font-size: 12.8px\;"><strong>Your driving session will be 15 minutes long</strong>&nbsp\;over a predetermined route designed to highlight the capabilities of Model S.<br />\nA Tesla Product Specialist will accompany all drives to ensure you optimize your time in Model S.<br />\nYou may bring up to three guests to ride in the back seat during your drive.</p>\n\n<p style="color: rgb(34\, 34\, 34)\; line-height: normal\; font-family: arial\, sans-serif\; font-size: 12.8px\;">Sign up on the&nbsp\;<a href="http://www.aacamuseum.org/test-drive-a-tesla-model-s/" style="color: rgb(17\, 85\, 204)\;" target="_blank">AACA Museum website</a>!</p>\n
LOCATION:AACA Museum 161 Museum Drive Hershey\, PA 17033
UID:e.1500.979
SEQUENCE:3
DTSTAMP:20260423T011232Z
URL:https://business.hanoverchamber.com/events/details/test-drive-a-tesla-model-s-10-23-2015-979
END:VEVENT

END:VCALENDAR
