BEGIN:VCALENDAR
VERSION:2.0
PRODID:-//ChamberMaster//Event Calendar 2.0//EN
METHOD:PUBLISH
X-PUBLISHED-TTL:P3D
REFRESH-INTERVAL:P3D
CALSCALE:GREGORIAN
BEGIN:VEVENT
DTSTART:20180505T180000Z
DTEND:20180505T190000Z
X-MICROSOFT-CDO-ALLDAYEVENT:FALSE
SUMMARY:Tears Turns 30
DESCRIPTION:Celebrate the 30th anniversary of our award-winning Tears of Gettysburg. Join us at the Farm Winery for wood-fired pizzas\, live music from 5.5 Men\, delicious food from Agin' Cajun food truck\, vendors\, and wine.
X-ALT-DESC;FMTTYPE=text/html:Celebrate the 30th anniversary of our award-winning Tears of Gettysburg. Join us at the Farm Winery for wood-fired pizzas\, live music from 5.5 Men\, delicious food from Agin&rsquo\; Cajun food truck\, vendors\, and wine.
LOCATION:Adams County Winery Farm Winery 251 Peach Tree Rd. Orrtanna\, PA 17353
UID:e.1500.4198
SEQUENCE:3
DTSTAMP:20260420T232910Z
URL:https://business.hanoverchamber.com/events/details/tears-turns-30-4198
END:VEVENT

END:VCALENDAR
