BEGIN:VCALENDAR
VERSION:2.0
PRODID:-//ChamberMaster//Event Calendar 2.0//EN
METHOD:PUBLISH
X-PUBLISHED-TTL:P3D
REFRESH-INTERVAL:P3D
CALSCALE:GREGORIAN
BEGIN:VEVENT
DTSTART:20160430T200000Z
DTEND:20160501T010000Z
X-MICROSOFT-CDO-ALLDAYEVENT:FALSE
SUMMARY:Sweet Charities: Band & Brew Feat
DESCRIPTION:The Band & Brew Fest helping raise funds for The Cancer Patient Fund
X-ALT-DESC;FMTTYPE=text/html:The Band &amp\; Brew Fest helping raise funds for The Cancer Patient Fund
LOCATION:The Sheppard Mansion
UID:e.1500.1027
SEQUENCE:3
DTSTAMP:20260422T150118Z
URL:https://business.hanoverchamber.com/events/details/sweet-charities-band-brew-feat-04-30-2016-1027
END:VEVENT

END:VCALENDAR
