BEGIN:VCALENDAR
VERSION:2.0
PRODID:-//ChamberMaster//Event Calendar 2.0//EN
METHOD:PUBLISH
X-PUBLISHED-TTL:P3D
REFRESH-INTERVAL:P3D
CALSCALE:GREGORIAN
BEGIN:VEVENT
DTSTART:20161014T153000Z
DTEND:20161014T173000Z
X-MICROSOFT-CDO-ALLDAYEVENT:FALSE
SUMMARY:Survive to Thrive
DESCRIPTION:The topic for this even is surviving deomestic violence and thriving after the abuse. Octover is domestic violence awareness month. \n\nA healthy luncheon will be served along with information from the American Heart Association on healthy portion size plus other tips for a healthy heart which will be presented by a registered dietician from Hanover Hospital.
X-ALT-DESC;FMTTYPE=text/html:The topic for this even is surviving deomestic violence and thriving after the abuse. Octover is domestic violence awareness month.&nbsp\;<br />\nA healthy luncheon will be served along with information from the American Heart Association on healthy portion size plus other tips for a healthy heart which will be presented by a registered dietician from Hanover Hospital.
LOCATION:YWCA 23 W Chestnut St. Hanover\, PA 17331
UID:e.1500.1232
SEQUENCE:3
DTSTAMP:20260422T055140Z
URL:https://business.hanoverchamber.com/events/details/survive-to-thrive-1232
END:VEVENT

END:VCALENDAR
