BEGIN:VCALENDAR
VERSION:2.0
PRODID:-//ChamberMaster//Event Calendar 2.0//EN
METHOD:PUBLISH
X-PUBLISHED-TTL:P3D
REFRESH-INTERVAL:P3D
CALSCALE:GREGORIAN
BEGIN:VEVENT
DTSTART:20160924T223000Z
DTEND:20160925T004500Z
X-MICROSOFT-CDO-ALLDAYEVENT:FALSE
SUMMARY:Steam Into History
DESCRIPTION:Take a look back into history with Civil War and historical reenactments aboard the train.  In addition to a full calendar of events you will have three different opportunities to experience train raids and encampments September through November.
X-ALT-DESC;FMTTYPE=text/html:<span style="color:black\;"><span style="font-family:arial\,sans-serif\;">Take a look back into history with Civil War and historical reenactments aboard the train. &nbsp\;In addition to a full calendar of events you will have three different opportunities to experience train raids and encampments September through November.&nbsp\;</span></span>
LOCATION:This trip will include stills only. The train will be in three different locations with lighting set up for the photos. The spots will include Glen Rock\, Hanover Junction and New Freedom at the renovated train station. This train will have limited seating and will last between three and three and a half hours long.
UID:e.1500.1228
SEQUENCE:3
DTSTAMP:20260422T071712Z
URL:https://business.hanoverchamber.com/events/details/steam-into-history-1228
END:VEVENT

END:VCALENDAR
