BEGIN:VCALENDAR
VERSION:2.0
PRODID:-//ChamberMaster//Event Calendar 2.0//EN
METHOD:PUBLISH
X-PUBLISHED-TTL:P3D
REFRESH-INTERVAL:P3D
CALSCALE:GREGORIAN
BEGIN:VEVENT
DTSTART:20150916T123000Z
DTEND:20150916T170000Z
X-MICROSOFT-CDO-ALLDAYEVENT:FALSE
SUMMARY:Staying Ahead of the (k)urve: The Latest 401(k) Trends and Best Practices Seminar
DESCRIPTION:Join us for this FREE event as we discuss the latest trends impacting corporate retirement plans and the fiduciaries who oversee them. This session is valuable for HR executives\, as well as members of the executive team who are involved with the oversight of the corporate retirement plan. CPE credit will be provided for attendance.\n\n\n\nTopics:\n\nManaging Your Defined Contribution Plan - Kara Darlington\, CPA of Smith Elliott Kearns & Company\, LLC\n\nWomen and Retirement - Cynthia Pagliaro of Vanguard Center of Retirement Research\n\nAre Your Target Date Funds Missing the Mark? - Joshua Itzoe\, CFP\, AIF of Greenspring Wealth Management\n\n\n\nAgenda:\n\nArive and breakfast 8:30 a.m. - 9:00 a.m.\n\nPresentation 9:00 a.m. - 12:00 p.m.\n\nLunch 12:00 p.m. - 1:00 p.m.\n\n\n\nAttendance is limited\, so please RSVP to secure your seat ASAP: lauren.gwinn@greenspringwealth.com or 443-564-4600
X-ALT-DESC;FMTTYPE=text/html:Join us for this FREE event as we discuss the latest trends impacting corporate retirement plans and the fiduciaries who oversee them. This session is valuable for HR executives\, as well as members of the executive team who are involved with the oversight of the corporate retirement plan. <u>CPE credit will be provided for attendance.</u><br />\n<br />\nTopics:<br />\n<strong>Managing Your Defined Contribution Plan</strong> - Kara Darlington\, CPA of Smith Elliott Kearns &amp\; Company\, LLC<br />\n<strong>Women and Retirement</strong> - Cynthia Pagliaro of Vanguard Center of Retirement Research<br />\n<strong>Are Your Target Date Funds Missing the Mark? </strong>- Joshua Itzoe\, CFP\, AIF of Greenspring Wealth Management<br />\n<br />\nAgenda:<br />\nArive and breakfast 8:30 a.m. - 9:00 a.m.<br />\nPresentation 9:00 a.m. - 12:00 p.m.<br />\nLunch 12:00 p.m. - 1:00 p.m.<br />\n<br />\nAttendance is limited\, so please RSVP to secure your seat ASAP: <a href="mailto:lauren.gwinn@greenspringwealth.com">lauren.gwinn@greenspringwealth.com</a> or 443-564-4600<br />\n&nbsp\;
LOCATION:Heritage Hills Golf Resorts - 2700 Mount Rose Avenue\, York\, PA 17402
UID:e.1500.955
SEQUENCE:3
DTSTAMP:20260423T024516Z
URL:https://business.hanoverchamber.com/events/details/staying-ahead-of-the-k-urve-the-latest-401-k-trends-and-best-practices-seminar-09-16-2015-955
END:VEVENT

END:VCALENDAR
