BEGIN:VCALENDAR
VERSION:2.0
PRODID:-//ChamberMaster//Event Calendar 2.0//EN
METHOD:PUBLISH
X-PUBLISHED-TTL:P3D
REFRESH-INTERVAL:P3D
CALSCALE:GREGORIAN
BEGIN:VEVENT
DTSTART:20170415T130000Z
DTEND:20170415T180000Z
X-MICROSOFT-CDO-ALLDAYEVENT:FALSE
SUMMARY:South Western Music Department Market Place Event
DESCRIPTION:The South Western Music Department is planning their Market Place April 15 from 9am   2pm at the South Western High School parking lot on Bowman Road. Yard salers\, vendors\, and crafters are encouraged to participate. The public is invited for a day of shopping. Reserve your space today. All proceeds will benefit the high school music department. For more information\, contact rgchjc@yahoo.com or call (717)- 632-2548 EXT 21820
X-ALT-DESC;FMTTYPE=text/html:The South Western Music Department is planning their Market Place April 15 from 9am &ndash\; 2pm at the South Western High School parking lot on Bowman Road. Yard salers\, vendors\, and crafters are encouraged to participate. The public is invited for a day of shopping. Reserve your space today. All proceeds will benefit the high school music department. For more information\, contact rgchjc@yahoo.com or call (717)- 632-2548 EXT 21820
LOCATION:South Western High School 225 Bowman Road Hanover\, PA 17331
UID:e.1500.2320
SEQUENCE:3
DTSTAMP:20260421T204327Z
URL:https://business.hanoverchamber.com/events/details/south-western-music-department-market-place-event-2320
END:VEVENT

END:VCALENDAR
