BEGIN:VCALENDAR
VERSION:2.0
PRODID:-//ChamberMaster//Event Calendar 2.0//EN
METHOD:PUBLISH
X-PUBLISHED-TTL:P3D
REFRESH-INTERVAL:P3D
CALSCALE:GREGORIAN
BEGIN:VEVENT
DTSTART:20180421T130000Z
DTEND:20180421T180000Z
X-MICROSOFT-CDO-ALLDAYEVENT:FALSE
SUMMARY:South Western Music Department Market Place Event
DESCRIPTION:The Market Place event is hosted by the South Western Music Department. Yard salers\, vendors\, and crafters sell their goods on the South Western High School parking lot. The booster organization sells chicken bar-b-q meals and other concessions. All proceeds benefit the music department at the South Western High School.
X-ALT-DESC;FMTTYPE=text/html:The Market Place event is hosted by the South Western Music Department. Yard salers\, vendors\, and crafters sell their goods on the South Western High School parking lot. The booster organization sells chicken bar-b-q meals and other concessions. All proceeds benefit the music department at the South Western High School.
LOCATION:South Western High School 200 Bowman Road Hanover\, PA 17331
UID:e.1500.3132
SEQUENCE:3
DTSTAMP:20260421T011108Z
URL:https://business.hanoverchamber.com/events/details/south-western-music-department-market-place-event-04-21-2018-3132
END:VEVENT

END:VCALENDAR
