BEGIN:VCALENDAR
VERSION:2.0
PRODID:-//ChamberMaster//Event Calendar 2.0//EN
METHOD:PUBLISH
X-PUBLISHED-TTL:P3D
REFRESH-INTERVAL:P3D
CALSCALE:GREGORIAN
BEGIN:VEVENT
DTSTART:20180623T160000Z
DTEND:20180623T210000Z
X-MICROSOFT-CDO-ALLDAYEVENT:FALSE
SUMMARY:Snacktown Brewfest®
DESCRIPTION:The 2nd Annual Snack Town Brewfest  is right around the corner! This year's Brewfest will be held on Saturday\, June 23 from 1-5 p.m. at Good Field in Hanover. Once again\, a VIP Hour will be offered at noon. Stayed tuned for updates on this year's event.\n\nTickets will go on sale April 1.\n\nSnack Town Brewfest  offers a variety of sponsorship opportunities: Brewfest Sponsorships 2018\n\nIf you are a brewery\, winery\, food vendor or business interested in sponsorship\, please contact Haley Briggs\, Operations Coordinator\,at hbriggs@hanoverchamber.com.
X-ALT-DESC;FMTTYPE=text/html:<p style="box-sizing: border-box\; margin: 0px 0px 25px\; padding: 0px\; font-family: &quot\;Droid Sans&quot\;\, sans-serif\; color: rgb(24\, 40\, 51)\; font-size: 17.6px\;">The 2nd Annual Snack Town Brewfest&reg\; is right around the corner! This year&rsquo\;s Brewfest will be held on Saturday\, June 23 from 1-5 p.m. at Good Field in Hanover. Once again\, a VIP Hour will be offered at noon. Stayed tuned for updates on this year&rsquo\;s event.</p>\n\n<p style="box-sizing: border-box\; margin: 0px 0px 25px\; padding: 0px\; font-family: &quot\;Droid Sans&quot\;\, sans-serif\; color: rgb(24\, 40\, 51)\; font-size: 17.6px\;">Tickets will go on sale April 1.</p>\n\n<p style="box-sizing: border-box\; margin: 0px 0px 25px\; padding: 0px\; font-family: &quot\;Droid Sans&quot\;\, sans-serif\; color: rgb(24\, 40\, 51)\; font-size: 17.6px\;">Snack Town Brewfest&reg\; offers a variety of sponsorship opportunities:&nbsp\;<a href="http://hanoverchamber.com/wp-content/uploads/2018/01/Brewfest-Sponsorships-2018.pdf" style="box-sizing: border-box\; margin: 0px\; padding: 0px\; color: rgb(158\, 25\, 68)\; text-decoration-line: none\; transition: all 0.25s ease\;">Brewfest Sponsorships 2018</a></p>\n\n<p style="box-sizing: border-box\; margin: 0px 0px 25px\; padding: 0px\; font-family: &quot\;Droid Sans&quot\;\, sans-serif\; color: rgb(24\, 40\, 51)\; font-size: 17.6px\;">If you are a brewery\, winery\, food vendor or business interested in sponsorship\, please contact Haley Briggs\, Operations Coordinator\,at&nbsp\;<a href="mailto:hbriggs@hanoverchamber.com" style="box-sizing: border-box\; margin: 0px\; padding: 0px\; color: rgb(158\, 25\, 68)\; text-decoration-line: none\; transition: all 0.25s ease\;">hbriggs@hanoverchamber.com</a>.</p>\n\n<p style="box-sizing: border-box\; margin: 0px 0px 25px\; padding: 0px\; font-family: &quot\;Droid Sans&quot\;\, sans-serif\; color: rgb(24\, 40\, 51)\; font-size: 17.6px\;">&nbsp\;</p>\n
LOCATION:Good Field\, Hanover\, PA
UID:e.1500.4168
SEQUENCE:3
DTSTAMP:20260420T212651Z
URL:https://business.hanoverchamber.com/events/details/snacktown-brewfest-06-23-2018-4168
END:VEVENT

END:VCALENDAR
