BEGIN:VCALENDAR
VERSION:2.0
PRODID:-//ChamberMaster//Event Calendar 2.0//EN
METHOD:PUBLISH
X-PUBLISHED-TTL:P3D
REFRESH-INTERVAL:P3D
CALSCALE:GREGORIAN
BEGIN:VEVENT
DTSTART:20171109T010000Z
DTEND:20171109T040000Z
X-MICROSOFT-CDO-ALLDAYEVENT:FALSE
SUMMARY:Smith Elliott Kearns & Company\, LLC Year-End Insight Seminar
DESCRIPTION:Smith Elliott Kearns & Company\, LLC is presenting their annual Year-End Insight Seminar\, which focuses on updates and issues affecting compliance matters for Pennsylvania and Maryland businesses.\n\n\n\nTopics for this year's seminar include an update on general sales and use tax topics\; review of record keeping requirements\; payroll updates including changes to I-9's and W-2's\; review of unique payroll issues\; human resource highlights\; and other important information.
X-ALT-DESC;FMTTYPE=text/html:<span style="color:black\;"><span style="font-size:10.0pt\;">Smith Elliott Kearns &amp\; Company\, LLC is presenting their annual Year-End Insight Seminar\, which focuses on updates and issues affecting compliance matters for Pennsylvania and Maryland businesses.</span></span><br />\n<br />\n<span style="color:black\;"><span style="font-size:10.0pt\;">Topics for this year&rsquo\;s seminar include an update on general sales and use tax topics\; review of record keeping requirements\; payroll updates including changes to I-9&rsquo\;s and W-2&rsquo\;s\; review of unique payroll issues\; human resource highlights\; and other important information.</span></span>
LOCATION:Tuesday\, November 7\, 2017 Carlisle Country Club\, Carlisle\, PA Wednesday\, November 8\, 2017 Green Grove Gardens\, Greencastle\, PA Thursday\, November 16\, 2017 Hanover Country Club\, Abbottstown\, PA
UID:e.1500.3088
SEQUENCE:3
DTSTAMP:20260421T093307Z
URL:https://business.hanoverchamber.com/events/details/smith-elliott-kearns-company-llc-year-end-insight-seminar-3088
END:VEVENT

END:VCALENDAR
