BEGIN:VCALENDAR
VERSION:2.0
PRODID:-//ChamberMaster//Event Calendar 2.0//EN
METHOD:PUBLISH
X-PUBLISHED-TTL:P3D
REFRESH-INTERVAL:P3D
CALSCALE:GREGORIAN
BEGIN:VEVENT
DTSTART:20160611T180000Z
DTEND:20160611T230000Z
X-MICROSOFT-CDO-ALLDAYEVENT:FALSE
SUMMARY:Sip & Stroll
DESCRIPTION:Participants will stroll around the downtown visiting different businesses and tasting a variety of wines\, beers\, and food from local establishments! And don't forget the ART! Local artists will be featured at each location as well\, creating a gallery crawl feel for this second yearly event.  Tickets available online only via Eventbrite:\n\nhttps://www.eventbrite.com/e/main-street-hanover-sip-stroll-tickets-25237119905
X-ALT-DESC;FMTTYPE=text/html:Participants will stroll around the downtown visiting different businesses and tasting a variety of wines\, beers\, and food from local establishments! And don&rsquo\;t forget the ART! Local artists will be featured at each location as well\, creating a gallery crawl feel for this second yearly event. &nbsp\;Tickets available online only via Eventbrite:<br />\nhttps://www.eventbrite.com/e/main-street-hanover-sip-stroll-tickets-25237119905
LOCATION:Downtown Hanover Various locations in downtown Hanover
UID:e.1500.1124
SEQUENCE:3
DTSTAMP:20260422T114156Z
URL:https://business.hanoverchamber.com/events/details/sip-stroll-06-11-2016-1124
END:VEVENT

END:VCALENDAR
