BEGIN:VCALENDAR
VERSION:2.0
PRODID:-//ChamberMaster//Event Calendar 2.0//EN
METHOD:PUBLISH
X-PUBLISHED-TTL:P3D
REFRESH-INTERVAL:P3D
CALSCALE:GREGORIAN
BEGIN:VEVENT
DTSTART:20160617T130000Z
DTEND:20160618T030000Z
X-MICROSOFT-CDO-ALLDAYEVENT:FALSE
SUMMARY:Seminar: What To Do If You Have a Claim presented by Stock & Leader- CANCELLED
DESCRIPTION:What To Do If You Have a Claim\n\n\n	Administrative procedures before the PHRC and EEOC\n	Proper employer record completion\, storage\, and retention\n	Unemployment Compensation Eligibility and the Appeals Process
X-ALT-DESC;FMTTYPE=text/html:<p class="MsoNormal"><b><i><span style="font-size:12.0pt\;font-family:&quot\;Georgia&quot\;\,&quot\;serif&quot\;">What To Do If You Have a Claim</span></i></b></p>\n\n<ul>\n	<li><span style="font-family:georgia\,serif\;"><span style="font-size:12.0pt\;">Administrative procedures before the PHRC and EEOC</span></span></li>\n	<li><span style="font-family:georgia\,serif\;"><span style="font-size:12.0pt\;">Proper employer record completion\, storage\, and retention</span></span></li>\n	<li><span style="font-family:georgia\,serif\;"><span style="font-size:12.0pt\;">Unemployment Compensation Eligibility and the Appeals Process</span></span></li>\n</ul>\n\n<p class="MsoNormal"><span style="font-size:12.0pt\;\nfont-family:&quot\;Georgia&quot\;\,&quot\;serif&quot\;"><o:p></o:p></span></p>\n
LOCATION:Guthrie Memorial Library\, John D. Bare Center 2 Library Place\, Hanover
UID:e.1500.1072
SEQUENCE:3
DTSTAMP:20260422T120802Z
URL:https://business.hanoverchamber.com/events/details/seminar-what-to-do-if-you-have-a-claim-presented-by-stock-leader-cancelled-06-17-2016-1072
END:VEVENT

END:VCALENDAR
