BEGIN:VCALENDAR
VERSION:2.0
PRODID:-//ChamberMaster//Event Calendar 2.0//EN
METHOD:PUBLISH
X-PUBLISHED-TTL:P3D
REFRESH-INTERVAL:P3D
CALSCALE:GREGORIAN
BEGIN:VEVENT
DTSTART:20170622T120000Z
DTEND:20170622T140000Z
X-MICROSOFT-CDO-ALLDAYEVENT:FALSE
SUMMARY:Seminar: Using 2016 Historical Review of Sales to Make 2017 Even Better
DESCRIPTION:Presented by Donald Shores\, Penny Press of York\, and Tim Fives\, Fives Squared\n\n\n\nLearn:\n\n	How to build an effective plan for 2017 to catapult your sales\n	Tools and hands on Planning for 2017\n	How successful companies plan-their Secret\n\n \n\nWorkshop Description:\n\nLearn how to build on the past year to catapult your 2017 business plan. In this session\, you will learn how to learn from your mistakes\, and taking your success to build momentum into 2017. We will focus on the core components of your yearly plan and break down the activities to help you meet your goals.
X-ALT-DESC;FMTTYPE=text/html:<span style="font-size:12px\;"><span style="font-family:arial\;">Presented by Donald Shores\, Penny Press of York\, and Tim Fives\, Fives Squared<br />\n<br />\nLearn:</span></span>\n<ul>\n	<li style="margin-bottom:8.0pt\;line-height:105%\;"><span style="font-size:12px\;"><span style="font-family:arial\;">How to build an effective plan for 2017 to catapult your sales</span></span></li>\n	<li style="margin-bottom:8.0pt\;line-height:105%\;"><span style="font-size:12px\;"><span style="font-family:arial\;">Tools and hands on Planning for 2017</span></span></li>\n	<li style="margin-bottom:8.0pt\;line-height:105%\;"><span style="font-size:12px\;"><span style="font-family:arial\;">How successful companies plan-their Secret</span></span></li>\n</ul>\n<span style="font-size:12px\;"><span style="font-family:arial\;">&nbsp\;<br />\nWorkshop Description:<br />\nLearn how to build on the past year to catapult your 2017 business plan. In this session\, you will learn how to learn from your mistakes\, and taking your success to build momentum into 2017. We will focus on the core components of your yearly plan and break down the activities to help you meet your goals.</span></span>
LOCATION:Hanover Chamber Office 146 Carlisle St.\, Hanover
UID:e.1500.2485
SEQUENCE:3
DTSTAMP:20260421T172417Z
URL:https://business.hanoverchamber.com/events/details/seminar-using-2016-historical-review-of-sales-to-make-2017-even-better-2485
END:VEVENT

END:VCALENDAR
