BEGIN:VCALENDAR
VERSION:2.0
PRODID:-//ChamberMaster//Event Calendar 2.0//EN
METHOD:PUBLISH
X-PUBLISHED-TTL:P3D
REFRESH-INTERVAL:P3D
CALSCALE:GREGORIAN
BEGIN:VEVENT
DTSTART:20161007T130000Z
DTEND:20161008T030000Z
X-MICROSOFT-CDO-ALLDAYEVENT:FALSE
SUMMARY:Seminar: The New Overtime Regulations Under the FLSA presented by Stock & Leader\, Attorneys at Law
DESCRIPTION:Presented by Michael W. King\n\n\n	What are the new overtime rules under the Fair Labor Standards Act?\n	How will the new overtime rules affect your business and your employees?\n	What should employers do now to ensure compliance by the December 1\, 2016\, deadline?
X-ALT-DESC;FMTTYPE=text/html:<span style="font-size:14px\;"><strong>Presented by Michael W. King</strong></span>\n\n<ul>\n	<li><span style="font-size:14px\;"><em>What are the new overtime rules under the Fair Labor Standards Act?</em></span></li>\n	<li><span style="font-size:14px\;"><em>How will the new overtime rules affect your business and your employees?</em></span></li>\n	<li><span style="font-size:14px\;"><em>What should employers do now to ensure compliance by the December 1\, 2016\, deadline?</em></span></li>\n</ul>\n
LOCATION:Guthrie Memorial Library\, John D. Bare Center 2 Library Place\, Hanover
UID:e.1500.1207
SEQUENCE:3
DTSTAMP:20260422T055800Z
URL:https://business.hanoverchamber.com/events/details/seminar-the-new-overtime-regulations-under-the-flsa-presented-by-stock-leader-attorneys-at-law-10-07-2016-1207
END:VEVENT

END:VCALENDAR
