BEGIN:VCALENDAR
VERSION:2.0
PRODID:-//ChamberMaster//Event Calendar 2.0//EN
METHOD:PUBLISH
X-PUBLISHED-TTL:P3D
REFRESH-INTERVAL:P3D
CALSCALE:GREGORIAN
BEGIN:VEVENT
DTSTART:20170428T113000Z
DTEND:20170428T140000Z
X-MICROSOFT-CDO-ALLDAYEVENT:FALSE
SUMMARY:Seminar presented by Stock & Leader
DESCRIPTION:Topics to include: \n\n	         Sexual harassment\n	         You've been sued!  Now What? PHRC Claims\n	         Employee Discipline and Performance Evaluations\n\nPresented by Stock and Leader\, Attorneys at Law.  \n\n\n\nThis program has been submitted to the HR Certification Institute for review.  This program may be submitted for SHRM credits.
X-ALT-DESC;FMTTYPE=text/html:<span _mce_style="font-family: Calibri\, Helvetica\, Arial\, sans-serif\; font-size: 16px\; line-height: 20.8px\;" style="color: rgb(0\, 0\, 0)\; font-family: Calibri\, Helvetica\, Arial\, sans-serif\; font-size: 16px\; line-height: 20.8px\;">Topics to include:&nbsp\;</span>\n<ul>\n	<li>&nbsp\;&nbsp\;&nbsp\;&nbsp\;&nbsp\;&nbsp\;&nbsp\;&nbsp\; Sexual harassment</li>\n	<li>&nbsp\;&nbsp\;&nbsp\;&nbsp\;&nbsp\;&nbsp\;&nbsp\;&nbsp\; You&rsquo\;ve been sued!&nbsp\; Now What? PHRC Claims</li>\n	<li>&nbsp\;&nbsp\;&nbsp\;&nbsp\;&nbsp\;&nbsp\;&nbsp\;&nbsp\; Employee Discipline and Performance Evaluations</li>\n</ul>\n<span _mce_style="font-family: Calibri\, Helvetica\, Arial\, sans-serif\; font-size: 16px\; line-height: 20.8px\;" style="color: rgb(0\, 0\, 0)\; font-family: Calibri\, Helvetica\, Arial\, sans-serif\; font-size: 16px\; line-height: 20.8px\;">Presented by Stock and Leader\, Attorneys at Law. &nbsp\;<br />\n<br />\n<em>This program has been submitted to the HR Certification Institute for review. &nbsp\;This program may be submitted for SHRM credits.&nbsp\;</em></span>
LOCATION:Guthrie Memorial Library\, John D. Bare Center 2 Library Place\, Hanover
UID:e.1500.2287
SEQUENCE:3
DTSTAMP:20260421T202136Z
URL:https://business.hanoverchamber.com/events/details/seminar-presented-by-stock-leader-2287
END:VEVENT

END:VCALENDAR
