BEGIN:VCALENDAR
VERSION:2.0
PRODID:-//ChamberMaster//Event Calendar 2.0//EN
METHOD:PUBLISH
X-PUBLISHED-TTL:P3D
REFRESH-INTERVAL:P3D
CALSCALE:GREGORIAN
BEGIN:VEVENT
DTSTART:20171020T133000Z
DTEND:20171020T143000Z
X-MICROSOFT-CDO-ALLDAYEVENT:FALSE
SUMMARY:Seminar: Marketing and Branding on a Budget for Small Businesses\, presented by Shippensburg Small Business Development Center 10/20/2017
DESCRIPTION:The seminar will focus on marketing and branding on a budget for small businesses!\n\n\n\nSeminar speaker will be Laura Gifford from Hershey\, PA.
X-ALT-DESC;FMTTYPE=text/html:The seminar will focus on marketing and branding on a budget for&nbsp\;small businesses!<br />\n<br />\nSeminar speaker will be Laura Gifford from Hershey\, PA.&nbsp\;<br />\n&nbsp\;
LOCATION:Hanover Area Chamber of Commerce - Large Conference Room 146 Carlisle Street Hanover\, PA 17331
UID:e.1500.3066
SEQUENCE:3
DTSTAMP:20260421T111147Z
URL:https://business.hanoverchamber.com/events/details/seminar-marketing-and-branding-on-a-budget-for-small-businesses-presented-by-shippensburg-small-business-development-center-10-20-2017-3066
END:VEVENT

END:VCALENDAR
