BEGIN:VCALENDAR
VERSION:2.0
PRODID:-//ChamberMaster//Event Calendar 2.0//EN
METHOD:PUBLISH
X-PUBLISHED-TTL:P3D
REFRESH-INTERVAL:P3D
CALSCALE:GREGORIAN
BEGIN:VEVENT
DTSTART:20160408T130000Z
DTEND:20160409T030000Z
X-MICROSOFT-CDO-ALLDAYEVENT:FALSE
SUMMARY:Seminar: Hiring Matters\, presented by Stock & Leader
DESCRIPTION:Recent developments in hiring\, criminal background checks\, the ban the box movement and immigration updates.  Presented by Stock and Leader\, Attorneys at Law.  This program has been submitted to the HR Certification Institute for review.  This program may be submitted for SHRM credits.
X-ALT-DESC;FMTTYPE=text/html:<span style="color: rgb(0\, 0\, 0)\; font-family: Calibri\, Helvetica\, Arial\, sans-serif\; font-size: 16px\; line-height: 20.8px\;">Recent developments in hiring\, criminal background checks\, the ban the box movement and immigration updates. &nbsp\;Presented by Stock and Leader\, Attorneys at Law. &nbsp\;</span><em style="color: rgb(0\, 0\, 0)\; font-family: Calibri\, Helvetica\, Arial\, sans-serif\; font-size: 16px\; line-height: 20.8px\;">This program has been submitted to the HR Certification Institute for review. &nbsp\;This program may be submitted for SHRM credits.&nbsp\;</em>
LOCATION:Guthrie Memorial Library\, John D. Bare Center 2 Library Place\, Hanover
UID:e.1500.1055
SEQUENCE:3
DTSTAMP:20260422T161545Z
URL:https://business.hanoverchamber.com/events/details/seminar-hiring-matters-presented-by-stock-leader-04-08-2016-1055
END:VEVENT

END:VCALENDAR
