BEGIN:VCALENDAR
VERSION:2.0
PRODID:-//ChamberMaster//Event Calendar 2.0//EN
METHOD:PUBLISH
X-PUBLISHED-TTL:P3D
REFRESH-INTERVAL:P3D
CALSCALE:GREGORIAN
BEGIN:VEVENT
DTSTART:20170224T123000Z
DTEND:20170224T150000Z
X-MICROSOFT-CDO-ALLDAYEVENT:FALSE
SUMMARY:Seminar: Employment Law Annual Review\, presented by Stock & Leader
DESCRIPTION:Employment Law Annual Review - What the Trump Presidency May Mean for Employers\n\n \n\nJoin Stock and Leader's Employement Law Group for a program addressing the latest topics in employment law.\n\n \n\nWhat Does a Trump Presidency Mean for Employers?\n\nThere is much speculation about how the unexpected election of Donald Trump will impact employers and employment law. While necessarily speculative\, we will try to bring some "informed speculation" to a number of questions\, including: the likely fate of the DOL overtime rules in the wake of the Federal Court injunction\; the possible repeal of Obamacare\; how much of the Obama Administration's expansion of employment regulation by the EEOC\, the NLRB and OSHA will survive\; will immigration enforcement be ramped up and/or employment-based visa programs (such as H1-B) become more restrictive\; and the impact of Trump's appointment of one or more justices to the Supreme Court.\n\n \n\nLeaves of Absence under the ADA and FMLA\n\nOne of the more difficult and confusing issues for human resource managers involves both the complexity and the differences between the rules for leaves of absence under the FMLA and those under the ADA. For example\, when can an employer insist on a second medical opinion and\, once FMLA leave is exhausted\, how much additional leave is "reasonable" as an accommodation under the ADA? This presentation will focus on clarifying the rules and offering practical advice in dealing with requests for leaves of absence.\n\n \n\nOSHA's New Rule on Mandatory Post-Accident Drug Test\n\n \n\nLove in the Workplace: \n\nA Light "hearted" Valentine's Day review of issues created by relationships in the work place\, and how to address them appropriately.\n\n \n\nReservations required by February 7.\n\n \n\nThis program has been submitted to the HR Certification Institute for Review.\n\n \n\nThis program may be submitted for SHRM credits.\n\n \n\nNo shows will not be refunded but will receive program materials.
X-ALT-DESC;FMTTYPE=text/html:<span style="font-size:14px\;"><span style="font-family:arial\;"><strong><u>Employment Law Annual Review - What the Trump Presidency May Mean for Employers</u></strong><br />\n&nbsp\;</span></span><br />\n<span style="font-family:georgia\,serif\;"><span style="font-size:12.0pt\;">Join Stock and Leader&#39\;s Employement Law Group&nbsp\;for a program addressing the latest topics in employment law.</span></span><br />\n&nbsp\;<br />\n<strong><span style="font-family:georgia\,serif\;"><span style="font-size:12.0pt\;">What Does a Trump Presidency Mean for Employers?</span></span></strong><br />\n<span style="font-family:georgia\,serif\;"><span style="font-size:12.0pt\;">There is much speculation about how the unexpected election of Donald Trump will impact employers and employment law. While necessarily speculative\, we will try to bring some &ldquo\;informed speculation&rdquo\; to a number of questions\, including: the likely fate of the DOL overtime rules in the wake of the Federal Court injunction\; the possible repeal of Obamacare\; how much of the Obama Administration&rsquo\;s expansion of employment regulation by the EEOC\, the NLRB and OSHA will survive\; will immigration enforcement be ramped up and/or employment-based visa programs (such as H1-B) become more restrictive\; and the impact of Trump&rsquo\;s appointment of one or more justices to the Supreme Court.</span></span><br />\n&nbsp\;<br />\n<strong><span style="font-family:georgia\,serif\;"><span style="font-size:12.0pt\;">Leaves of Absence under the ADA and FMLA</span></span></strong><br />\n<span style="font-family:georgia\,serif\;"><span style="font-size:12.0pt\;">One of the more difficult and confusing issues for human resource managers involves both the complexity and the differences between the rules for leaves of absence under the FMLA and those under the ADA. For example\, when can an employer insist on a second medical opinion and\, once FMLA leave is exhausted\, how much additional leave is &ldquo\;reasonable&rdquo\; as an accommodation under the ADA? This presentation will focus on clarifying the rules and offering practical advice in dealing with requests for leaves of absence.</span></span><br />\n&nbsp\;<br />\n<strong><span style="font-family:georgia\,serif\;"><span style="font-size:12.0pt\;">OSHA&rsquo\;s New Rule on Mandatory Post-Accident Drug Test</span></span></strong><br />\n&nbsp\;<br />\n<strong><span style="font-family:georgia\,serif\;"><span style="font-size:12.0pt\;">Love in the Workplace:</span></span></strong><span style="font-family:georgia\,serif\;"><span style="font-size:12.0pt\;">&nbsp\;<br />\nA Light &ldquo\;hearted&rdquo\; Valentine&rsquo\;s Day review of issues created by relationships in the work place\, and how to address them appropriately.</span></span><br />\n&nbsp\;<br />\n<strong><span style="font-family:georgia\,serif\;"><span style="font-size:12.0pt\;">Reservations required by February 7.</span></span></strong><br />\n&nbsp\;<br />\n<em><span style="font-family:georgia\,serif\;"><span style="font-size:12.0pt\;">This program has been submitted to the HR Certification Institute for Review.</span></span></em><br />\n&nbsp\;<br />\n<em><span style="font-family:georgia\,serif\;"><span style="font-size:12.0pt\;">This program may be submitted for SHRM credits.</span></span></em><br />\n&nbsp\;<br />\n<em><span style="font-family:georgia\,serif\;"><span style="font-size:12.0pt\;">No shows will not be refunded but will receive program materials.</span></span></em>
LOCATION:Guthrie Memorial Library\, John D. Bare Center 2 Library Place\, Hanover
UID:e.1500.2286
SEQUENCE:3
DTSTAMP:20260421T232235Z
URL:https://business.hanoverchamber.com/events/details/seminar-employment-law-annual-review-presented-by-stock-leader-2286
END:VEVENT

END:VCALENDAR
