BEGIN:VCALENDAR
VERSION:2.0
PRODID:-//ChamberMaster//Event Calendar 2.0//EN
METHOD:PUBLISH
X-PUBLISHED-TTL:P3D
REFRESH-INTERVAL:P3D
CALSCALE:GREGORIAN
BEGIN:VEVENT
DTSTART:20171117T123000Z
DTEND:20171117T150000Z
X-MICROSOFT-CDO-ALLDAYEVENT:FALSE
SUMMARY:Seminar: Dealing with Leave of Absence Issues\, presented by Stock & Leader 11/17/2017
DESCRIPTION:Out of Office:\n\nDealing with Leave of Absence Issues\n\nJoin Stock and Leader's Employment Law Group for a lunch program addressing\n\nLearn About:\n\nLeave Requirements Under the FMLA\,\n\nADA and the Pregnancy Discrimination Act\n\nHandling the Problem Employee\n\nMinimizing endless leave extensions and 3-day weekends.\n\nHow to Use Sick Leave and Disability Insurance\n\nto Effectively Manage Leaves of Absence\n\nemployee leaves of absence and what employers need to know about handling them.\n\n \n\nThis program has been submitted to the HR Certification Institute for Review.\n\n \n\nThis program may be submitted for SHRM credits.\n\n \n\nNo shows will not be refunded but will receive program materials.
X-ALT-DESC;FMTTYPE=text/html:<strong>Out of Office:</strong><br />\nDealing with Leave of Absence Issues<br />\nJoin Stock and Leader&rsquo\;s Employment Law Group for a lunch program addressing<br />\nLearn About:<br />\nLeave Requirements Under the FMLA\,<br />\nADA and the Pregnancy Discrimination Act<br />\nHandling the Problem Employee<br />\nMinimizing endless leave extensions and 3-day weekends.<br />\nHow to Use Sick Leave and Disability Insurance<br />\nto Effectively Manage Leaves of Absence<br />\nemployee leaves of absence and what employers need to know about handling them.<br />\n&nbsp\;<br />\n<em><span style="font-family:georgia\,serif\;"><span style="font-size:12.0pt\;">This program has been submitted to the HR Certification Institute for Review.</span></span></em><br />\n&nbsp\;<br />\n<em><span style="font-family:georgia\,serif\;"><span style="font-size:12.0pt\;">This program may be submitted for SHRM credits.</span></span></em><br />\n&nbsp\;<br />\n<em><span style="font-family:georgia\,serif\;"><span style="font-size:12.0pt\;">No shows will not be refunded but will receive program materials.</span></span></em>
LOCATION:Guthrie Memorial Library\, John D. Bare Center 2 Library Place\, Hanover
UID:e.1500.3009
SEQUENCE:3
DTSTAMP:20260421T093049Z
URL:https://business.hanoverchamber.com/events/details/seminar-dealing-with-leave-of-absence-issues-presented-by-stock-leader-11-17-2017-3009
END:VEVENT

END:VCALENDAR
