BEGIN:VCALENDAR
VERSION:2.0
PRODID:-//ChamberMaster//Event Calendar 2.0//EN
METHOD:PUBLISH
X-PUBLISHED-TTL:P3D
REFRESH-INTERVAL:P3D
CALSCALE:GREGORIAN
BEGIN:VEVENT
DTSTART:20180602T170000Z
DTEND:20180602T210000Z
X-MICROSOFT-CDO-ALLDAYEVENT:FALSE
SUMMARY:Sangria in the Sun
DESCRIPTION:Celebrate the release of our Sangria Wines with live music and a build your own sangria bar
X-ALT-DESC;FMTTYPE=text/html:Celebrate the release of our Sangria Wines with live music and a build your own sangria bar
LOCATION:Adams County Winery 251 Peach Tree Rd. Orrtanna\, PA 17353
UID:e.1500.4204
SEQUENCE:3
DTSTAMP:20260420T211643Z
URL:https://business.hanoverchamber.com/events/details/sangria-in-the-sun-4204
END:VEVENT

END:VCALENDAR
