BEGIN:VCALENDAR
VERSION:2.0
PRODID:-//ChamberMaster//Event Calendar 2.0//EN
METHOD:PUBLISH
X-PUBLISHED-TTL:P3D
REFRESH-INTERVAL:P3D
CALSCALE:GREGORIAN
BEGIN:VEVENT
DTSTART:20180510T200000Z
DTEND:20180510T220000Z
X-MICROSOFT-CDO-ALLDAYEVENT:FALSE
SUMMARY:Ribbon Cutting & Open House at Menchey Music Services
DESCRIPTION:Please join Menchey Music Services for a Ribbon Cutting and Open House!\n\nRibbon Cutting to take place at 4 p.m.
X-ALT-DESC;FMTTYPE=text/html:<span style="color:#272534\;"><span style="font-family:calibri\,sans-serif\;"><span style="font-size:13.5pt\;">Please join Menchey Music Services&nbsp\;</span></span></span><span style="color:#272534\;"><span style="font-family:calibri\,sans-serif\;"><span style="font-size:13.5pt\;">for a Ribbon Cutting and Open House!</span></span></span><br />\n<span style="color:#272534\;"><span style="font-family:calibri\,sans-serif\;"><span style="font-size:13.5pt\;">Ribbon Cutting to take place at 4 p.m.</span></span></span><br />\n&nbsp\;
LOCATION:9 Barnhart Drive Hanover\, PA 17331
UID:e.1500.4219
SEQUENCE:3
DTSTAMP:20260420T233217Z
URL:https://business.hanoverchamber.com/events/details/ribbon-cutting-open-house-at-menchey-music-services-4219
END:VEVENT

END:VCALENDAR
