BEGIN:VCALENDAR
VERSION:2.0
PRODID:-//ChamberMaster//Event Calendar 2.0//EN
METHOD:PUBLISH
X-PUBLISHED-TTL:P3D
REFRESH-INTERVAL:P3D
CALSCALE:GREGORIAN
BEGIN:VEVENT
DTSTART:20150612T160000Z
DTEND:20150612T170000Z
X-MICROSOFT-CDO-ALLDAYEVENT:FALSE
SUMMARY:Ribbon Cutting Ceremony at Academy for Media Production
DESCRIPTION:Please join us for a ribbon cutting ceremony and open house at AMP!
X-ALT-DESC;FMTTYPE=text/html:Please join us for a ribbon cutting ceremony and open house at AMP!
LOCATION:238 Main Street McSherrystown\, PA
UID:e.1500.894
SEQUENCE:3
DTSTAMP:20260423T054350Z
URL:https://business.hanoverchamber.com/events/details/ribbon-cutting-ceremony-at-academy-for-media-production-06-12-2015-894
END:VEVENT

END:VCALENDAR
