BEGIN:VCALENDAR
VERSION:2.0
PRODID:-//ChamberMaster//Event Calendar 2.0//EN
METHOD:PUBLISH
X-PUBLISHED-TTL:P3D
REFRESH-INTERVAL:P3D
CALSCALE:GREGORIAN
BEGIN:VEVENT
DTSTART;VALUE=DATE:20151223
DTEND;VALUE=DATE:20160112
TRANSP:TRANSPARENT
X-MICROSOFT-CDO-ALLDAYEVENT:TRUE
SUMMARY:Register Now for the Next Freedom From Smoking Class
DESCRIPTION:You probably know about the harmful effects smoking has on your health\, but did you know what it does to your skin?  Smoking just one cigarette restricts blood flow\, depriving the skin of the oxygen and nutrients it needs to thrive and heal.  Some of the not-so-attractive skin-related consequences of smoking include premature aging\, bags under the eyes\, and permanent creases and lines around the mouth and a sallow complexion.  Even worse\, smoking increases the odds for developing squamous cell skin cancer and cataracts in the eyes.
X-ALT-DESC;FMTTYPE=text/html:You probably know about the harmful effects smoking has on your health\, but did you know what it does to your skin?&nbsp\; Smoking just one cigarette restricts blood flow\, depriving the skin of the oxygen and nutrients it needs to thrive and heal.&nbsp\; Some of the not-so-attractive skin-related consequences of smoking include premature aging\, bags under the eyes\, and permanent creases and lines around the mouth and a sallow complexion.&nbsp\; Even worse\, smoking increases the odds for developing squamous cell skin cancer and cataracts in the eyes. &nbsp\;
LOCATION:Are you ready to quit? Have you been thinking about quitting but just don't know where to get started? Hanover Hospital will offer the next "Freedom From Smoking " series\, which will begin on Monday\, January 25\, 2016. Classes will be held weekly from 5:30 to 7 p.m. through March 7\, at the Hillside Medical Center\, 250 Fame Avenue\, Suite 200\, Hanover\, PA. The group will meet twice during week #4: February 15 and 17. Participation is FREE.
UID:e.1500.1032
SEQUENCE:3
DTSTAMP:20260422T190823Z
URL:https://business.hanoverchamber.com/events/details/register-now-for-the-next-freedom-from-smoking-class-12-23-2015-1032
END:VEVENT

END:VCALENDAR
