BEGIN:VCALENDAR
VERSION:2.0
PRODID:-//ChamberMaster//Event Calendar 2.0//EN
METHOD:PUBLISH
X-PUBLISHED-TTL:P3D
REFRESH-INTERVAL:P3D
CALSCALE:GREGORIAN
BEGIN:VEVENT
DTSTART:20170320T151500Z
DTEND:20170320T170000Z
X-MICROSOFT-CDO-ALLDAYEVENT:FALSE
SUMMARY:Reading New Food Labels "Lunch with the Dietitian"
DESCRIPTION:After 20 years\, the food label is changing.  Plan to join us for a special "Lunch with the Dietitian" event to learn more about the changes on Tuesday April 18\, 2017.  Lunch will be from 11:15 a.m. to Noon\, followed by the presentation from Noon to 1 p.m.\, at the York Street Medical Center\, 400 York Street\, Hanover\, PA.\n\n \n\nGuest speaker Denise Stamm\, MS\, RD\, LDN\, CDE\, a registered dietitian and certified diabetes educator at Hanover Hospital\, will discuss how the new food label will help you to make better food choices\, and what to look for on the label to help you control your blood sugar.\n\n \n\nHanover Hospital offers comprehensive Diabetes Education programs.  Diabetes counseling is provided by certified diabetes educators and registered nurses and dietitians who specialize in diabetes management.  The full service Diabetes Self-Management and Education Program is recognized by the American Diabetes Association.\n\n \n\nThe "Lunch with the Dietitian" event is free\, but registration is required.  To register\, please call\n\n(717) 316-7208 or (717) 316-2118 by Tuesday\, April 11\, 2017.
X-ALT-DESC;FMTTYPE=text/html:After 20 years\, the food label is changing.&nbsp\; Plan to join us for a special &ldquo\;Lunch with the Dietitian&rdquo\; event to learn more about the changes on Tuesday April 18\, 2017.&nbsp\; Lunch will be from 11:15 a.m. to Noon\, followed by the presentation from Noon to 1 p.m.\, at the York Street Medical Center\, 400 York Street\, Hanover\, PA.<br />\n&nbsp\;<br />\nGuest speaker Denise Stamm\, MS\, RD\, LDN\, CDE\, a registered dietitian and certified diabetes educator at Hanover Hospital\, will discuss how the new food label will help you to make better food choices\, and what to look for on the label to help you control your blood sugar.<br />\n&nbsp\;<br />\n<span style="color:#221B11\;">Hanover Hospital offers comprehensive Diabetes Education programs.&nbsp\; </span>Diabetes counseling is provided by certified diabetes educators and registered nurses and dietitians who specialize in diabetes management.&nbsp\;&nbsp\;The full service Diabetes Self-Management and Education Program is recognized by the American Diabetes Association.<br />\n&nbsp\;<br />\nThe &ldquo\;Lunch with the Dietitian&rdquo\; event is free\, but registration is required.&nbsp\; To register\, please call<br />\n(717) 316-7208 or (717) 316-2118 by Tuesday\, April 11\, 2017.
LOCATION:York Street Medical Center\, 400 York Street\, Hanover\, PA.
UID:e.1500.2494
SEQUENCE:3
DTSTAMP:20260421T232207Z
URL:https://business.hanoverchamber.com/events/details/reading-new-food-labels-lunch-with-the-dietitian-2494
END:VEVENT

END:VCALENDAR
