BEGIN:VCALENDAR
VERSION:2.0
PRODID:-//ChamberMaster//Event Calendar 2.0//EN
METHOD:PUBLISH
X-PUBLISHED-TTL:P3D
REFRESH-INTERVAL:P3D
CALSCALE:GREGORIAN
BEGIN:VEVENT
DTSTART;VALUE=DATE:20160112
DTEND;VALUE=DATE:20160113
TRANSP:TRANSPARENT
X-MICROSOFT-CDO-ALLDAYEVENT:TRUE
SUMMARY:rabbittransit to Host Monthly Information Sessions in Hanover
DESCRIPTION:York\, PA   rabbittransit will launch a public education campaign in Hanover by hosting a series of monthly information sessions at local non-profit organizations beginning in January. The campaign follows a Community Planning Forum that took place in late October\, focused on strategizing for the future of transportation in Hanover. One need that surfaced was \n\nadditional community outreach and education about how to ride the fixed route bus service.  \n\n \n\nrabbittransit is in the midst of a Transit Development Plan (TDP) in coordination with the York County Planning Commission that will re-evaluate all fixed route bus service. The TDP process takes place every five years and assists rabbittransit in re-allocating resources from under-utilized routes or to better meet customer needs while balancing funding formulas.
X-ALT-DESC;FMTTYPE=text/html:<span style="font-family:helvetica\,sans-serif\;">York\, PA &ndash\; rabbittransit will launch a public education campaign in Hanover by hosting a series of monthly information sessions at local non-profit organizations beginning in January. The campaign follows a Community Planning Forum that took place in late October\, focused on strategizing for the future of transportation in Hanover. One need that surfaced was </span><br />\n<span style="font-family:helvetica\,sans-serif\;">additional community outreach and education about how to ride the fixed route bus service. &nbsp\;</span><br />\n&nbsp\;<br />\n<span style="font-family:helvetica\,sans-serif\;">rabbittransit is in the midst of a Transit Development Plan (TDP) in coordination with the York County Planning Commission that will re-evaluate all fixed route bus service. </span><span style="font-family:arial\,sans-serif\;">The TDP process takes place every five years and assists rabbittransit in re-allocating resources from under-utilized routes or to better meet customer needs while balancing funding formulas.</span>
LOCATION:The Hanover Information Sessions will take place at the following times and places: Hanover Council of Churches\, 136 Carlisle Street 2nd Tuesday of each month\, 10AM-12PM\, beginning Tuesday\, January 12 New Hope Ministries\, 135 Baltimore Street 2nd Thursday of each month\, 10AM-1PM beginning Thursday\, January 14 Guthrie Memorial Library\, 2 Library Place 2nd Monday of each month\, 10AM-11AM beginning Monday\, February 8
UID:e.1500.1046
SEQUENCE:3
DTSTAMP:20260422T192234Z
URL:https://business.hanoverchamber.com/events/details/rabbittransit-to-host-monthly-information-sessions-in-hanover-01-12-2016-1046
END:VEVENT

END:VCALENDAR
